BEGIN:VCALENDAR
VERSION:2.0
PRODID:-//Area Agency on Aging Palm Beach/Treasure Coast Inc. - ECPv6.15.11//NONSGML v1.0//EN
CALSCALE:GREGORIAN
METHOD:PUBLISH
X-WR-CALNAME:Area Agency on Aging Palm Beach/Treasure Coast Inc.
X-ORIGINAL-URL:https://www.aaapbtc.org
X-WR-CALDESC:Events for Area Agency on Aging Palm Beach/Treasure Coast Inc.
REFRESH-INTERVAL;VALUE=DURATION:PT1H
X-Robots-Tag:noindex
X-PUBLISHED-TTL:PT1H
BEGIN:VTIMEZONE
TZID:America/New_York
BEGIN:DAYLIGHT
TZOFFSETFROM:-0500
TZOFFSETTO:-0400
TZNAME:EDT
DTSTART:20250309T070000
END:DAYLIGHT
BEGIN:STANDARD
TZOFFSETFROM:-0400
TZOFFSETTO:-0500
TZNAME:EST
DTSTART:20251102T060000
END:STANDARD
BEGIN:DAYLIGHT
TZOFFSETFROM:-0500
TZOFFSETTO:-0400
TZNAME:EDT
DTSTART:20260308T070000
END:DAYLIGHT
BEGIN:STANDARD
TZOFFSETFROM:-0400
TZOFFSETTO:-0500
TZNAME:EST
DTSTART:20261101T060000
END:STANDARD
BEGIN:DAYLIGHT
TZOFFSETFROM:-0500
TZOFFSETTO:-0400
TZNAME:EDT
DTSTART:20270314T070000
END:DAYLIGHT
BEGIN:STANDARD
TZOFFSETFROM:-0400
TZOFFSETTO:-0500
TZNAME:EST
DTSTART:20271107T060000
END:STANDARD
END:VTIMEZONE
BEGIN:VEVENT
DTSTART;TZID=America/New_York:20260429T130000
DTEND;TZID=America/New_York:20260429T140000
DTSTAMP:20260422T065458
CREATED:20260306T191417Z
LAST-MODIFIED:20260306T191417Z
UID:10000681-1777467600-1777471200@www.aaapbtc.org
SUMMARY:Tai Ji Quan - Village of Wellington Community Center
DESCRIPTION:If you’re looking for a way to reduce stress\, consider Tai Chi. Tai Chi is sometimes described as “meditation in motion” because it promotes serenity through gentle movements — connecting the mind and body. \n• Tai Chi can build strength\n• Tai Chi promotes socialization\n• Tai Chi is done at your own pace\n• Tai Chi can be done sitting down\n• Tai Chi promotes a healthy lifestyle \nThis class meets 2 times a week for 12 weeks! Must attend 18 out of 24 classes. \nTo register call: 561-753-2484 \nClick here to see the flyer
URL:https://www.aaapbtc.org/event/tai-ji-quan-village-of-wellington-community-center/2026-04-29/
LOCATION:Village of Wellington Community Center\, 12150 Forest Hill Blvd.\, Wellington\, FL\, 33414\, United States
CATEGORIES:Healthy Aging Events
END:VEVENT
END:VCALENDAR