Workbook

Sheet INSTRUCTIONS
C1: BUDGET COST WORKSHEET INSTRUCTIONS
A3: 1. | C3: It is highly recommended that this workbook be saved to disk before you begin to prepare your budget cost worksheets.
A5: 2. | C5: All of the spreadsheets are linked and formula driven. Do not delete any column(s) or rows, hide them! If a column or row is deleted it can (and probably will) change the formulas and cause the worksheets not to calculate properly.
A7: 3 | C7: FORMULAS/LINKS: Please do not write over formulas or links. If a formula or link result must be adjusted, add or subtract an amount in the formula or linked cell. Cells in blue require input.
C10: THE WORKSHEETS
A12: I. | C12: SERVICE DESCRIPTION REFERENCE LIST: The last page of this workbook contains a list of the services.
A14: II. | C14: PERSONNEL ALLOCATIONS WORKSHEET: The Personnel Allocations worksheet is the second worksheet in this workbook (after these instructions). The personnel allocations worksheet must include all agency staff.
B16: a. | C16: Insert the agency name and the date on the lines indicated at the upper left hand side of the worksheet.
B18: b. | C18: Insert the personnel information beginning on row 10. Use one line for each employee. Include the proposed gross wages and net available hours calculations for each employee. Volunteers can be shown with "0" wages and net available hours. For each position, manually insert the percentage of time allocated to one or more of the services (the allocations must be based on recent time studies or other accurate and verifiable documentation). The worksheet will calculate the amount of time and wages allocated to each service.
B20: c. | C20: To Insert more rows for personnel: You may insert rows into the Personnel Sheet. When inserting rows to incorporate additional staff positions you can copy the formula down from the row above.
B22: d | C22: Unused rows may be hidden.
B24: e. | C24: PLEASE !!!! DO NOT DELETE A COLUMN OR A ROW. Deleting a row or column may change a formula and the worksheet will not calculate properly
A26: III. | C26: UNIT COST WORKSHEET: The Unit Cost Worksheet is located after the Personnel Allocations Worksheet. Please report all expenses (costs) for the related column regardless of funding source for each line item. Budgeted expenditures that can be directly identified with one or more services should be manually allocated to those services. Budgeted expenditures that apply to all services should be allocated to the "Management & General Cost Pool" or the "Facilities & Maintenance Cost Pool."
B28: a. | C28: Do not delete any rows or line items. All of the line items must be fully shown when the report is submitted. Do not add any line items, except for subcontractors, which must be itemized (each subcontractor must be shown separately).
B30: b. | C30: Hide any service columns that do not apply to your agency. Do not delete the Non-DOEA, Fundraising or Unallowable Cost Columns. These columns must be shown on the report when submitted.
B32: c. | C32: The Wages Row (Line 8) is linked to the Personnel Allocations Worksheet. As information is entered into the Personnel Allocations Worksheet, the Unit Cost Worksheet automatically updates. The wage cost information is calculated on the gross wages.
B34: d. | C34: The Fringes: Enter the total of all fringe benefits in Column B, Line 9. The fringe expense for each service automatically calculates, based on the % of total wages. If benefits are to be directly charged to each service, add or subtract an amount from the formula in each cell. Do not write over the formulas.
B36: e. | C36: Complete all applicable line item expenses allocating cost to the appropriate "service category". The travel cost category includes transportation costs, lodging costs, meals and other related items (parking fees, tolls, conference registration fees, etc.). The communications category includes telephone costs, other telecommunication charges, postage and shipping costs. The maintenance and repair category is for equipment repair or equipment leases. The space cost category includes rent, building maintenance, repairs and supplies. The equipment category includes one year of depreciation costs associated with the acquisition of non-consumable, non-expendable property or capital goods which meet or exceed the DOEA specified capitalization limits.
B38: f. | C38: Subcontractors: Rows 21 - 25. All subcontractors should be individually listed. To add more rows to itemize subcontractors, insert before row 25 and copy the previous row down.
B40: g. | C40: The value of in-kind should be shown as a separate expense line item (Rows 30-32). If you receive free rent as an in-kind contribution, you must include the in-kind space amount as a separate item under row 30.
B42: h. | C42: The worksheet will allocate all of the expenses of the management and general expense cost pool. The worksheet will also allocate all of the expenses for the facility cost pool, only if the expense is allocated to Column F. For the cost to be allocated properly by service, the total square footage of the agency must be inserted in Column B, row 42. The square footage allocated to each service must also be shown in the appropriate column.
B44: i. | C44: Number of Billing Units: Row 48. This item must include all units of service regardless of funding source.
A46: IV. | C46: Supporting Budget Schedule by Program Activity: The Supporting Budget Schedule by Program Activity Worksheet is located after the Unit Cost Worksheet. The Supporting Budget Schedule by Program Activity should only reflect the amounts and units supported by the AAA allocation for that program. A separate Supporting Budget Schedule by Program Activity sheet must be submitted for each AAA funded program or title.
A48: V. | C48: Comments: On a separate page, please submit documentation describing unusual circumstances or documentation which helps to clarify budget information as shown on the worksheets.

Sheet Personnel Allocations 
A1: Area Agency on Aging Palm Beach/Treaure Coast Inc.
A2: UNIT COST METHODOLOGY
A3: PERSONNEL ALLOCATIONS WORKSHEET (All Funding Sources)
A4: BUDGET YEAR:
A5: PROVIDER NAME:
D7: % Increased by: | P7: (Service Reference) | R7: (1) | U7: (2) | X7: (3) | AA7: (4) | AD7: (5) | AG7: (6) | AJ7: (7) | AM7: (8) | AP7: (9) | AS7: (10) | AV7: (11) | AY7: (12) | BB7: (13) | BE7: (14) | BH7: (15) | BK7: (16) | BN7: (17) | BQ7: (18) | BT7: (19) | BW7: (20) | BZ7: (21) | CC7: (22) | CF7: (23) | CI7: (24) | CL7: (25) | CO7: (26) | CR7: (27) | CU7: (28) | CX7: (29) | DA7: (30) | DD7: (31) | DG7: (32) | DJ7: (33) | DM7: (34) | DP7: (35) | DS7: (36) | DV7: (37)
D8: 0 | L8: Management & General Cost Pool | O8: Facilities & Maintenance Cost Pool | R8: ='Service Items'!B1 -> Adult Day Care | U8: ='Service Items'!B2 -> Assurance | X8: ='Service Items'!B3 -> Caregiver Training/Support (Group) | AA8: ='Service Items'!B4 -> Caregiver Training/Support (Individual) | AD8: ='Service Items'!B5 -> Case Aide | AG8: ='Service Items'!B6 -> Case Management | AJ8: ='Service Items'!B7 -> Chore | AM8: ='Service Items'!B8 -> Companionship | AP8: ='Service Items'!B9 -> Counseling (Gereontological) Group | AS8: ='Service Items'!B10 -> Counseling (Gereontological) Individual | AV8: ='Service Items'!B11 -> Counseling (Mental Health/Screening) Group | AY8: ='Service Items'!B12 -> Counseling (Mental Health/Screening) Individual | BB8: ='Service Items'!B13 -> Emergency Alert Response | BE8: ='Service Items'!B14 -> Home Delivered Meals | BH8: ='Service Items'!B15 -> Homemaker | BK8: ='Service Items'!B16 -> Personal Care | BN8: ='Service Items'!B17 -> Respite (Facility Based) | BQ8: ='Service Items'!B18 -> Respite (In-Home) | BT8: ='Service Items'!B19 -> Transportation | BW8: ='Service Items'!B20 -> Pest Control Maintenance | BZ8: ='Service Items'!B21 -> 0 | CC8: ='Service Items'!B22 -> 0 | CF8: ='Service Items'!B23 -> 0 | CI8: ='Service Items'!B24 -> 0 | CL8: ='Service Items'!B25 -> 0 | CO8: ='Service Items'!B26 -> 0 | CR8: ='Service Items'!B27 -> 0 | CU8: ='Service Items'!B28 -> 0 | CX8: ='Service Items'!B29 -> 0 | DA8: ='Service Items'!B30 -> 0 | DD8: ='Service Items'!B31 -> 0 | DG8: ='Service Items'!B32 -> 0 | DJ8: ='Service Items'!B33 -> 0 | DM8: ='Service Items'!B34 -> 0 | DP8: ='Service Items'!B35 -> 0 | DS8: ='Service Items'!B36 -> 0 | DV8: ='Service Items'!B37 -> 0 | DY8: ='Service Items'!B38 -> Non-DOEA Services & Activities | EB8: ='Service Items'!B39 -> Fundraising & Unallowable Activities
A9: STAFF | B9: POSITION DESCRIPTION | C9: CURRENT WAGES | D9: PROPOSED INCREASE | E9: PROPOSED BUDGET | F9: GROSS AVAILABLE HOURS | G9: HOLIDAY HOURS | H9: SICK LEAVE | I9: ANNUAL LEAVE | J9: OTHER NON-BILLABLE TIME | K9: NET AVAILABLE HOURS | L9: % OF TIME | M9: HR/UNIT | N9: WAGE COST | O9: % OF TIME | P9: HR/UNIT | Q9: WAGE COST | R9: % OF TIME | S9: HR/UNIT | T9: WAGE COST | U9: % OF TIME | V9: HR/UNIT | W9: WAGE COST | X9: % OF TIME | Y9: HR/UNIT | Z9: WAGE COST | AA9: % OF TIME | AB9: HR/UNIT | AC9: WAGE COST | AD9: % OF TIME | AE9: HR/UNIT | AF9: WAGE COST | AG9: % OF TIME | AH9: HR/UNIT | AI9: WAGE COST | AJ9: % OF TIME | AK9: HR/UNIT | AL9: WAGE COST | AM9: % OF TIME | AN9: HR/UNIT | AO9: WAGE COST | AP9: % OF TIME | AQ9: HR/UNIT | AR9: WAGE COST | AS9: % OF TIME | AT9: HR/UNIT | AU9: WAGE COST | AV9: % OF TIME | AW9: HR/UNIT | AX9: WAGE COST | AY9: % OF TIME | AZ9: HR/UNIT | BA9: WAGE COST | BB9: % OF TIME | BC9: HR/UNIT | BD9: WAGE COST | BE9: % OF TIME | BF9: HR/UNIT | BG9: WAGE COST | BH9: % OF TIME | BI9: HR/UNIT | BJ9: WAGE COST | BK9: % OF TIME | BL9: HR/UNIT | BM9: WAGE COST | BN9: % OF TIME | BO9: HR/UNIT | BP9: WAGE COST | BQ9: % OF TIME | BR9: HR/UNIT | BS9: WAGE COST | BT9: % OF TIME | BU9: HR/UNIT | BV9: WAGE COST | BW9: % OF TIME | BX9: HR/UNIT | BY9: WAGE COST | BZ9: % OF TIME | CA9: HR/UNIT | CB9: WAGE COST | CC9: % OF TIME | CD9: HR/UNIT | CE9: WAGE COST | CF9: % OF TIME | CG9: HR/UNIT | CH9: WAGE COST | CI9: % OF TIME | CJ9: HR/UNIT | CK9: WAGE COST | CL9: % OF TIME | CM9: HR/UNIT | CN9: WAGE COST | CO9: % OF TIME | CP9: HR/UNIT | CQ9: WAGE COST | CR9: % OF TIME | CS9: HR/UNIT | CT9: WAGE COST | CU9: % OF TIME | CV9: HR/UNIT | CW9: WAGE COST | CX9: % OF TIME | CY9: HR/UNIT | CZ9: WAGE COST | DA9: % OF TIME | DB9: HR/UNIT | DC9: WAGE COST | DD9: % OF TIME | DE9: HR/UNIT | DF9: WAGE COST | DG9: % OF TIME | DH9: HR/UNIT | DI9: WAGE COST | DJ9: % OF TIME | DK9: HR/UNIT | DL9: WAGE COST | DM9: % OF TIME | DN9: HR/UNIT | DO9: WAGE COST | DP9: % OF TIME | DQ9: HR/UNIT | DR9: WAGE COST | DS9: % OF TIME | DT9: HR/UNIT | DU9: WAGE COST | DV9: % OF TIME | DW9: HR/UNIT | DX9: WAGE COST | DY9: % OF TIME | DZ9: HR/UNIT | EA9: WAGE COST | EB9: % OF TIME | EC9: HR/UNIT | ED9: WAGE COST | EF9: %'age Check Total
A10: Employee Name | B10: Position Description | C10: 0 | D10: =C10*D$8 -> 0 | E10: =C10+D10 -> 0 | F10: 0 | G10: 0 | H10: 0 | I10: 0 | J10: 0 | K10: =F10-SUM(G10:J10) -> 0 | L10: 0 | M10: =L10*$K10 -> 0 | N10: =IFERROR((M10/$K10)*$E10,0) -> 0 | O10: 0 | P10: =O10*$K10 -> 0 | Q10: =IFERROR((P10/$K10)*$E10,0) -> 0 | R10: 0 | S10: =R10*$K10 -> 0 | T10: =R10*$E10 -> 0 | U10: 0 | V10: =U10*$K10 -> 0 | W10: =U10*$E10 -> 0 | X10: 0 | Y10: =X10*$K10 -> 0 | Z10: =X10*$E10 -> 0 | AA10: 0 | AB10: =AA10*$K10 -> 0 | AC10: =AA10*$E10 -> 0 | AD10: 0 | AE10: =AD10*$K10 -> 0 | AF10: =AD10*$E10 -> 0 | AG10: 0 | AH10: =AG10*$K10 -> 0 | AI10: =AG10*$E10 -> 0 | AJ10: 0 | AK10: =AJ10*$K10 -> 0 | AL10: =AJ10*$E10 -> 0 | AM10: 0 | AN10: =AM10*$K10 -> 0 | AO10: =AM10*$E10 -> 0 | AP10: 0 | AQ10: =AP10*$K10 -> 0 | AR10: =AP10*$E10 -> 0 | AS10: 0 | AT10: =AS10*$K10 -> 0 | AU10: =AS10*$E10 -> 0 | AV10: 0 | AW10: =AV10*$K10 -> 0 | AX10: =AV10*$E10 -> 0 | AY10: 0 | AZ10: =AY10*$K10 -> 0 | BA10: =AY10*$E10 -> 0 | BB10: 0 | BC10: =BB10*$K10 -> 0 | BD10: =BB10*$E10 -> 0 | BE10: 0 | BF10: =BE10*$K10 -> 0 | BG10: =BE10*$E10 -> 0 | BH10: 0 | BI10: =BH10*$K10 -> 0 | BJ10: =BH10*$E10 -> 0 | BK10: 0 | BL10: =BK10*$K10 -> 0 | BM10: =BK10*$E10 -> 0 | BN10: 0 | BO10: =BN10*$K10 -> 0 | BP10: =BN10*$E10 -> 0 | BQ10: 0 | BR10: =BQ10*$K10 -> 0 | BS10: =BQ10*$E10 -> 0 | BT10: 0 | BU10: =BT10*$K10 -> 0 | BV10: =BT10*$E10 -> 0 | BW10: 0 | BX10: =BW10*$K10 -> 0 | BY10: =BW10*$E10 -> 0 | BZ10: 0 | CA10: =BZ10*$K10 -> 0 | CB10: =BZ10*$E10 -> 0 | CC10: 0 | CD10: =CC10*$K10 -> 0 | CE10: =CC10*$E10 -> 0 | CF10: 0 | CG10: =CF10*$K10 -> 0 | CH10: =CF10*$E10 -> 0 | CI10: 0 | CJ10: =CI10*$K10 -> 0 | CK10: =CI10*$E10 -> 0 | CL10: 0 | CM10: =CL10*$K10 -> 0 | CN10: =CL10*$E10 -> 0 | CO10: 0 | CP10: =CO10*$K10 -> 0 | CQ10: =CO10*$E10 -> 0 | CR10: 0 | CS10: =CR10*$K10 -> 0 | CT10: =CR10*$E10 -> 0 | CU10: 0 | CV10: =CU10*$K10 -> 0 | CW10: =CU10*$E10 -> 0 | CX10: 0 | CY10: =CX10*$K10 -> 0 | CZ10: =CX10*$E10 -> 0 | DA10: 0 | DB10: =DA10*$K10 -> 0 | DC10: =DA10*$E10 -> 0 | DD10: 0 | DE10: =DD10*$K10 -> 0 | DF10: =DD10*$E10 -> 0 | DG10: 0 | DH10: =DG10*$K10 -> 0 | DI10: =DG10*$E10 -> 0 | DJ10: 0 | DK10: =DJ10*$K10 -> 0 | DL10: =DJ10*$E10 -> 0 | DM10: 0 | DN10: =DM10*$K10 -> 0 | DO10: =DM10*$E10 -> 0 | DP10: 0 | DQ10: =DP10*$K10 -> 0 | DR10: =DP10*$E10 -> 0 | DS10: 0 | DT10: =DS10*$K10 -> 0 | DU10: =DS10*$E10 -> 0 | DV10: 0 | DW10: =DV10*$K10 -> 0 | DX10: =DV10*$E10 -> 0 | DY10: 0 | DZ10: =DY10*$K10 -> 0 | EA10: =DY10*$E10 -> 0 | EB10: 0 | EC10: =EB10*$K10 -> 0 | ED10: =EB10*$E10 -> 0 | EF10: =SUM(L10,O10,R10,U10,X10,AA10)+SUM(AD10,AG10,AJ10,AM10,AP10,AS10,AV10,AY10)+SUM(BB10,BE10,BH10,BK10,BN10,BQ10,BT10,BW10,BZ10)+SUM(CC10,CF10,CI10,CL10,CO10,CR10,CU10+CX10+DA10)+SUM(DD10,DG10,DJ10,DM10,DP10,DS10,DV10)+SUM(DY10,EB10) -> 0
A11: Employee Name | B11: Position Description | C11: 0 | D11: =C11*D$8 -> 0 | E11: =C11+D11 -> 0 | F11: 0.0001 | G11: 0 | H11: 0 | I11: 0 | J11: 0 | K11: =F11-SUM(G11:J11) -> 0.0001 | L11: 0 | M11: =L11*$K11 -> 0 | N11: =IFERROR((M11/$K11)*$E11,0) -> 0 | O11: 0 | P11: =O11*$K11 -> 0 | Q11: =IFERROR((P11/$K11)*$E11,0) -> 0 | R11: 0 | S11: =R11*$K11 -> 0 | T11: =R11*$E11 -> 0 | U11: 0 | V11: =U11*$K11 -> 0 | W11: =U11*$E11 -> 0 | X11: 0 | Y11: =X11*$K11 -> 0 | Z11: =X11*$E11 -> 0 | AA11: 0 | AB11: =AA11*$K11 -> 0 | AC11: =AA11*$E11 -> 0 | AD11: 0 | AE11: =AD11*$K11 -> 0 | AF11: =AD11*$E11 -> 0 | AG11: 0 | AH11: =AG11*$K11 -> 0 | AI11: =AG11*$E11 -> 0 | AJ11: 0 | AK11: =AJ11*$K11 -> 0 | AL11: =AJ11*$E11 -> 0 | AM11: 0 | AN11: =AM11*$K11 -> 0 | AO11: =AM11*$E11 -> 0 | AP11: 0 | AQ11: =AP11*$K11 -> 0 | AR11: =AP11*$E11 -> 0 | AS11: 0 | AT11: =AS11*$K11 -> 0 | AU11: =AS11*$E11 -> 0 | AV11: 0 | AW11: =AV11*$K11 -> 0 | AX11: =AV11*$E11 -> 0 | AY11: 0 | AZ11: =AY11*$K11 -> 0 | BA11: =AY11*$E11 -> 0 | BB11: 0 | BC11: =BB11*$K11 -> 0 | BD11: =BB11*$E11 -> 0 | BE11: 0 | BF11: =BE11*$K11 -> 0 | BG11: =BE11*$E11 -> 0 | BH11: 0 | BI11: =BH11*$K11 -> 0 | BJ11: =BH11*$E11 -> 0 | BK11: 0 | BL11: =BK11*$K11 -> 0 | BM11: =BK11*$E11 -> 0 | BN11: 0 | BO11: =BN11*$K11 -> 0 | BP11: =BN11*$E11 -> 0 | BQ11: 0 | BR11: =BQ11*$K11 -> 0 | BS11: =BQ11*$E11 -> 0 | BT11: 0 | BU11: =BT11*$K11 -> 0 | BV11: =BT11*$E11 -> 0 | BW11: 0 | BX11: =BW11*$K11 -> 0 | BY11: =BW11*$E11 -> 0 | BZ11: 0 | CA11: =BZ11*$K11 -> 0 | CB11: =BZ11*$E11 -> 0 | CC11: 0 | CD11: =CC11*$K11 -> 0 | CE11: =CC11*$E11 -> 0 | CF11: 0 | CG11: =CF11*$K11 -> 0 | CH11: =CF11*$E11 -> 0 | CI11: 0 | CJ11: =CI11*$K11 -> 0 | CK11: =CI11*$E11 -> 0 | CL11: 0 | CM11: =CL11*$K11 -> 0 | CN11: =CL11*$E11 -> 0 | CO11: 0 | CP11: =CO11*$K11 -> 0 | CQ11: =CO11*$E11 -> 0 | CR11: 0 | CS11: =CR11*$K11 -> 0 | CT11: =CR11*$E11 -> 0 | CU11: 0 | CV11: =CU11*$K11 -> 0 | CW11: =CU11*$E11 -> 0 | CX11: 0 | CY11: =CX11*$K11 -> 0 | CZ11: =CX11*$E11 -> 0 | DA11: 0 | DB11: =DA11*$K11 -> 0 | DC11: =DA11*$E11 -> 0 | DD11: 0 | DE11: =DD11*$K11 -> 0 | DF11: =DD11*$E11 -> 0 | DG11: 0 | DH11: =DG11*$K11 -> 0 | DI11: =DG11*$E11 -> 0 | DJ11: 0 | DK11: =DJ11*$K11 -> 0 | DL11: =DJ11*$E11 -> 0 | DM11: 0 | DN11: =DM11*$K11 -> 0 | DO11: =DM11*$E11 -> 0 | DP11: 0 | DQ11: =DP11*$K11 -> 0 | DR11: =DP11*$E11 -> 0 | DS11: 0 | DT11: =DS11*$K11 -> 0 | DU11: =DS11*$E11 -> 0 | DV11: 0 | DW11: =DV11*$K11 -> 0 | DX11: =DV11*$E11 -> 0 | DY11: 0 | DZ11: =DY11*$K11 -> 0 | EA11: =DY11*$E11 -> 0 | EB11: 0 | EC11: =EB11*$K11 -> 0 | ED11: =EB11*$E11 -> 0 | EF11: =SUM(L11,O11,R11,U11,X11,AA11)+SUM(AD11,AG11,AJ11,AM11,AP11,AS11,AV11,AY11)+SUM(BB11,BE11,BH11,BK11,BN11,BQ11,BT11,BW11,BZ11)+SUM(CC11,CF11,CI11,CL11,CO11,CR11,CU11+CX11+DA11)+SUM(DD11,DG11,DJ11,DM11,DP11,DS11,DV11)+SUM(DY11,EB11) -> 0
A12: Employee Name | B12: Position Description | C12: 0.0001 | D12: =C12*D$8 -> 0 | E12: =C12+D12 -> 0.0001 | F12: 0.0001 | G12: 0 | H12: 0 | I12: 0 | J12: 0 | K12: =F12-SUM(G12:J12) -> 0.0001 | L12: 0 | M12: =L12*$K12 -> 0 | N12: =IFERROR((M12/$K12)*$E12,0) -> 0 | O12: 0 | P12: =O12*$K12 -> 0 | Q12: =IFERROR((P12/$K12)*$E12,0) -> 0 | R12: 0 | S12: =R12*$K12 -> 0 | T12: =R12*$E12 -> 0 | U12: 0 | V12: =U12*$K12 -> 0 | W12: =U12*$E12 -> 0 | X12: 0 | Y12: =X12*$K12 -> 0 | Z12: =X12*$E12 -> 0 | AA12: 0 | AB12: =AA12*$K12 -> 0 | AC12: =AA12*$E12 -> 0 | AD12: 0 | AE12: =AD12*$K12 -> 0 | AF12: =AD12*$E12 -> 0 | AG12: 0 | AH12: =AG12*$K12 -> 0 | AI12: =AG12*$E12 -> 0 | AJ12: 0 | AK12: =AJ12*$K12 -> 0 | AL12: =AJ12*$E12 -> 0 | AM12: 0 | AN12: =AM12*$K12 -> 0 | AO12: =AM12*$E12 -> 0 | AP12: 0 | AQ12: =AP12*$K12 -> 0 | AR12: =AP12*$E12 -> 0 | AS12: 0 | AT12: =AS12*$K12 -> 0 | AU12: =AS12*$E12 -> 0 | AV12: 0 | AW12: =AV12*$K12 -> 0 | AX12: =AV12*$E12 -> 0 | AY12: 0 | AZ12: =AY12*$K12 -> 0 | BA12: =AY12*$E12 -> 0 | BB12: 0 | BC12: =BB12*$K12 -> 0 | BD12: =BB12*$E12 -> 0 | BE12: 0 | BF12: =BE12*$K12 -> 0 | BG12: =BE12*$E12 -> 0 | BH12: 0 | BI12: =BH12*$K12 -> 0 | BJ12: =BH12*$E12 -> 0 | BK12: 0 | BL12: =BK12*$K12 -> 0 | BM12: =BK12*$E12 -> 0 | BN12: 0 | BO12: =BN12*$K12 -> 0 | BP12: =BN12*$E12 -> 0 | BQ12: 0 | BR12: =BQ12*$K12 -> 0 | BS12: =BQ12*$E12 -> 0 | BT12: 0 | BU12: =BT12*$K12 -> 0 | BV12: =BT12*$E12 -> 0 | BW12: 0 | BX12: =BW12*$K12 -> 0 | BY12: =BW12*$E12 -> 0 | BZ12: 0 | CA12: =BZ12*$K12 -> 0 | CB12: =BZ12*$E12 -> 0 | CC12: 0 | CD12: =CC12*$K12 -> 0 | CE12: =CC12*$E12 -> 0 | CF12: 0 | CG12: =CF12*$K12 -> 0 | CH12: =CF12*$E12 -> 0 | CI12: 0 | CJ12: =CI12*$K12 -> 0 | CK12: =CI12*$E12 -> 0 | CL12: 0 | CM12: =CL12*$K12 -> 0 | CN12: =CL12*$E12 -> 0 | CO12: 0 | CP12: =CO12*$K12 -> 0 | CQ12: =CO12*$E12 -> 0 | CR12: 0 | CS12: =CR12*$K12 -> 0 | CT12: =CR12*$E12 -> 0 | CU12: 0 | CV12: =CU12*$K12 -> 0 | CW12: =CU12*$E12 -> 0 | CX12: 0 | CY12: =CX12*$K12 -> 0 | CZ12: =CX12*$E12 -> 0 | DA12: 0 | DB12: =DA12*$K12 -> 0 | DC12: =DA12*$E12 -> 0 | DD12: 0 | DE12: =DD12*$K12 -> 0 | DF12: =DD12*$E12 -> 0 | DG12: 0 | DH12: =DG12*$K12 -> 0 | DI12: =DG12*$E12 -> 0 | DJ12: 0 | DK12: =DJ12*$K12 -> 0 | DL12: =DJ12*$E12 -> 0 | DM12: 0 | DN12: =DM12*$K12 -> 0 | DO12: =DM12*$E12 -> 0 | DP12: 0 | DQ12: =DP12*$K12 -> 0 | DR12: =DP12*$E12 -> 0 | DS12: 0 | DT12: =DS12*$K12 -> 0 | DU12: =DS12*$E12 -> 0 | DV12: 0 | DW12: =DV12*$K12 -> 0 | DX12: =DV12*$E12 -> 0 | DY12: 0 | DZ12: =DY12*$K12 -> 0 | EA12: =DY12*$E12 -> 0 | EB12: 0 | EC12: =EB12*$K12 -> 0 | ED12: =EB12*$E12 -> 0 | EF12: =SUM(L12,O12,R12,U12,X12,AA12)+SUM(AD12,AG12,AJ12,AM12,AP12,AS12,AV12,AY12)+SUM(BB12,BE12,BH12,BK12,BN12,BQ12,BT12,BW12,BZ12)+SUM(CC12,CF12,CI12,CL12,CO12,CR12,CU12+CX12+DA12)+SUM(DD12,DG12,DJ12,DM12,DP12,DS12,DV12)+SUM(DY12,EB12) -> 0
A13: Employee Name | B13: Position Description | C13: 0.0001 | D13: =C13*D$8 -> 0 | E13: =C13+D13 -> 0.0001 | F13: 0.0001 | G13: 0 | H13: 0 | I13: 0 | J13: 0 | K13: =F13-SUM(G13:J13) -> 0.0001 | L13: 0 | M13: =L13*$K13 -> 0 | N13: =IFERROR((M13/$K13)*$E13,0) -> 0 | O13: 0 | P13: =O13*$K13 -> 0 | Q13: =IFERROR((P13/$K13)*$E13,0) -> 0 | R13: 0 | S13: =R13*$K13 -> 0 | T13: =R13*$E13 -> 0 | U13: 0 | V13: =U13*$K13 -> 0 | W13: =U13*$E13 -> 0 | X13: 0 | Y13: =X13*$K13 -> 0 | Z13: =X13*$E13 -> 0 | AA13: 0 | AB13: =AA13*$K13 -> 0 | AC13: =AA13*$E13 -> 0 | AD13: 0 | AE13: =AD13*$K13 -> 0 | AF13: =AD13*$E13 -> 0 | AG13: 0 | AH13: =AG13*$K13 -> 0 | AI13: =AG13*$E13 -> 0 | AJ13: 0 | AK13: =AJ13*$K13 -> 0 | AL13: =AJ13*$E13 -> 0 | AM13: 0 | AN13: =AM13*$K13 -> 0 | AO13: =AM13*$E13 -> 0 | AP13: 0 | AQ13: =AP13*$K13 -> 0 | AR13: =AP13*$E13 -> 0 | AS13: 0 | AT13: =AS13*$K13 -> 0 | AU13: =AS13*$E13 -> 0 | AV13: 0 | AW13: =AV13*$K13 -> 0 | AX13: =AV13*$E13 -> 0 | AY13: 0 | AZ13: =AY13*$K13 -> 0 | BA13: =AY13*$E13 -> 0 | BB13: 0 | BC13: =BB13*$K13 -> 0 | BD13: =BB13*$E13 -> 0 | BE13: 0 | BF13: =BE13*$K13 -> 0 | BG13: =BE13*$E13 -> 0 | BH13: 0 | BI13: =BH13*$K13 -> 0 | BJ13: =BH13*$E13 -> 0 | BK13: 0 | BL13: =BK13*$K13 -> 0 | BM13: =BK13*$E13 -> 0 | BN13: 0 | BO13: =BN13*$K13 -> 0 | BP13: =BN13*$E13 -> 0 | BQ13: 0 | BR13: =BQ13*$K13 -> 0 | BS13: =BQ13*$E13 -> 0 | BT13: 0 | BU13: =BT13*$K13 -> 0 | BV13: =BT13*$E13 -> 0 | BW13: 0 | BX13: =BW13*$K13 -> 0 | BY13: =BW13*$E13 -> 0 | BZ13: 0 | CA13: =BZ13*$K13 -> 0 | CB13: =BZ13*$E13 -> 0 | CC13: 0 | CD13: =CC13*$K13 -> 0 | CE13: =CC13*$E13 -> 0 | CF13: 0 | CG13: =CF13*$K13 -> 0 | CH13: =CF13*$E13 -> 0 | CI13: 0 | CJ13: =CI13*$K13 -> 0 | CK13: =CI13*$E13 -> 0 | CL13: 0 | CM13: =CL13*$K13 -> 0 | CN13: =CL13*$E13 -> 0 | CO13: 0 | CP13: =CO13*$K13 -> 0 | CQ13: =CO13*$E13 -> 0 | CR13: 0 | CS13: =CR13*$K13 -> 0 | CT13: =CR13*$E13 -> 0 | CU13: 0 | CV13: =CU13*$K13 -> 0 | CW13: =CU13*$E13 -> 0 | CX13: 0 | CY13: =CX13*$K13 -> 0 | CZ13: =CX13*$E13 -> 0 | DA13: 0 | DB13: =DA13*$K13 -> 0 | DC13: =DA13*$E13 -> 0 | DD13: 0 | DE13: =DD13*$K13 -> 0 | DF13: =DD13*$E13 -> 0 | DG13: 0 | DH13: =DG13*$K13 -> 0 | DI13: =DG13*$E13 -> 0 | DJ13: 0 | DK13: =DJ13*$K13 -> 0 | DL13: =DJ13*$E13 -> 0 | DM13: 0 | DN13: =DM13*$K13 -> 0 | DO13: =DM13*$E13 -> 0 | DP13: 0 | DQ13: =DP13*$K13 -> 0 | DR13: =DP13*$E13 -> 0 | DS13: 0 | DT13: =DS13*$K13 -> 0 | DU13: =DS13*$E13 -> 0 | DV13: 0 | DW13: =DV13*$K13 -> 0 | DX13: =DV13*$E13 -> 0 | DY13: 0 | DZ13: =DY13*$K13 -> 0 | EA13: =DY13*$E13 -> 0 | EB13: 0 | EC13: =EB13*$K13 -> 0 | ED13: =EB13*$E13 -> 0 | EF13: =SUM(L13,O13,R13,U13,X13,AA13)+SUM(AD13,AG13,AJ13,AM13,AP13,AS13,AV13,AY13)+SUM(BB13,BE13,BH13,BK13,BN13,BQ13,BT13,BW13,BZ13)+SUM(CC13,CF13,CI13,CL13,CO13,CR13,CU13+CX13+DA13)+SUM(DD13,DG13,DJ13,DM13,DP13,DS13,DV13)+SUM(DY13,EB13) -> 0
A14: Employee Name | B14: Position Description | C14: 0.0001 | D14: =C14*D$8 -> 0 | E14: =C14+D14 -> 0.0001 | F14: 0.0001 | G14: 0 | H14: 0 | I14: 0 | J14: 0 | K14: =F14-SUM(G14:J14) -> 0.0001 | L14: 0 | M14: =L14*$K14 -> 0 | N14: =IFERROR((M14/$K14)*$E14,0) -> 0 | O14: 0 | P14: =O14*$K14 -> 0 | Q14: =IFERROR((P14/$K14)*$E14,0) -> 0 | R14: 0 | S14: =R14*$K14 -> 0 | T14: =R14*$E14 -> 0 | U14: 0 | V14: =U14*$K14 -> 0 | W14: =U14*$E14 -> 0 | X14: 0 | Y14: =X14*$K14 -> 0 | Z14: =X14*$E14 -> 0 | AA14: 0 | AB14: =AA14*$K14 -> 0 | AC14: =AA14*$E14 -> 0 | AD14: 0 | AE14: =AD14*$K14 -> 0 | AF14: =AD14*$E14 -> 0 | AG14: 0 | AH14: =AG14*$K14 -> 0 | AI14: =AG14*$E14 -> 0 | AJ14: 0 | AK14: =AJ14*$K14 -> 0 | AL14: =AJ14*$E14 -> 0 | AM14: 0 | AN14: =AM14*$K14 -> 0 | AO14: =AM14*$E14 -> 0 | AP14: 0 | AQ14: =AP14*$K14 -> 0 | AR14: =AP14*$E14 -> 0 | AS14: 0 | AT14: =AS14*$K14 -> 0 | AU14: =AS14*$E14 -> 0 | AV14: 0 | AW14: =AV14*$K14 -> 0 | AX14: =AV14*$E14 -> 0 | AY14: 0 | AZ14: =AY14*$K14 -> 0 | BA14: =AY14*$E14 -> 0 | BB14: 0 | BC14: =BB14*$K14 -> 0 | BD14: =BB14*$E14 -> 0 | BE14: 0 | BF14: =BE14*$K14 -> 0 | BG14: =BE14*$E14 -> 0 | BH14: 0 | BI14: =BH14*$K14 -> 0 | BJ14: =BH14*$E14 -> 0 | BK14: 0 | BL14: =BK14*$K14 -> 0 | BM14: =BK14*$E14 -> 0 | BN14: 0 | BO14: =BN14*$K14 -> 0 | BP14: =BN14*$E14 -> 0 | BQ14: 0 | BR14: =BQ14*$K14 -> 0 | BS14: =BQ14*$E14 -> 0 | BT14: 0 | BU14: =BT14*$K14 -> 0 | BV14: =BT14*$E14 -> 0 | BW14: 0 | BX14: =BW14*$K14 -> 0 | BY14: =BW14*$E14 -> 0 | BZ14: 0 | CA14: =BZ14*$K14 -> 0 | CB14: =BZ14*$E14 -> 0 | CC14: 0 | CD14: =CC14*$K14 -> 0 | CE14: =CC14*$E14 -> 0 | CF14: 0 | CG14: =CF14*$K14 -> 0 | CH14: =CF14*$E14 -> 0 | CI14: 0 | CJ14: =CI14*$K14 -> 0 | CK14: =CI14*$E14 -> 0 | CL14: 0 | CM14: =CL14*$K14 -> 0 | CN14: =CL14*$E14 -> 0 | CO14: 0 | CP14: =CO14*$K14 -> 0 | CQ14: =CO14*$E14 -> 0 | CR14: 0 | CS14: =CR14*$K14 -> 0 | CT14: =CR14*$E14 -> 0 | CU14: 0 | CV14: =CU14*$K14 -> 0 | CW14: =CU14*$E14 -> 0 | CX14: 0 | CY14: =CX14*$K14 -> 0 | CZ14: =CX14*$E14 -> 0 | DA14: 0 | DB14: =DA14*$K14 -> 0 | DC14: =DA14*$E14 -> 0 | DD14: 0 | DE14: =DD14*$K14 -> 0 | DF14: =DD14*$E14 -> 0 | DG14: 0 | DH14: =DG14*$K14 -> 0 | DI14: =DG14*$E14 -> 0 | DJ14: 0 | DK14: =DJ14*$K14 -> 0 | DL14: =DJ14*$E14 -> 0 | DM14: 0 | DN14: =DM14*$K14 -> 0 | DO14: =DM14*$E14 -> 0 | DP14: 0 | DQ14: =DP14*$K14 -> 0 | DR14: =DP14*$E14 -> 0 | DS14: 0 | DT14: =DS14*$K14 -> 0 | DU14: =DS14*$E14 -> 0 | DV14: 0 | DW14: =DV14*$K14 -> 0 | DX14: =DV14*$E14 -> 0 | DY14: 0 | DZ14: =DY14*$K14 -> 0 | EA14: =DY14*$E14 -> 0 | EB14: 0 | EC14: =EB14*$K14 -> 0 | ED14: =EB14*$E14 -> 0 | EF14: =SUM(L14,O14,R14,U14,X14,AA14)+SUM(AD14,AG14,AJ14,AM14,AP14,AS14,AV14,AY14)+SUM(BB14,BE14,BH14,BK14,BN14,BQ14,BT14,BW14,BZ14)+SUM(CC14,CF14,CI14,CL14,CO14,CR14,CU14+CX14+DA14)+SUM(DD14,DG14,DJ14,DM14,DP14,DS14,DV14)+SUM(DY14,EB14) -> 0
A15: Employee Name | B15: Position Description | C15: 0.0001 | D15: =C15*D$8 -> 0 | E15: =C15+D15 -> 0.0001 | F15: 0.0001 | G15: 0 | H15: 0 | I15: 0 | J15: 0 | K15: =F15-SUM(G15:J15) -> 0.0001 | L15: 0 | M15: =L15*$K15 -> 0 | N15: =IFERROR((M15/$K15)*$E15,0) -> 0 | O15: 0 | P15: =O15*$K15 -> 0 | Q15: =IFERROR((P15/$K15)*$E15,0) -> 0 | R15: 0 | S15: =R15*$K15 -> 0 | T15: =R15*$E15 -> 0 | U15: 0 | V15: =U15*$K15 -> 0 | W15: =U15*$E15 -> 0 | X15: 0 | Y15: =X15*$K15 -> 0 | Z15: =X15*$E15 -> 0 | AA15: 0 | AB15: =AA15*$K15 -> 0 | AC15: =AA15*$E15 -> 0 | AD15: 0 | AE15: =AD15*$K15 -> 0 | AF15: =AD15*$E15 -> 0 | AG15: 0 | AH15: =AG15*$K15 -> 0 | AI15: =AG15*$E15 -> 0 | AJ15: 0 | AK15: =AJ15*$K15 -> 0 | AL15: =AJ15*$E15 -> 0 | AM15: 0 | AN15: =AM15*$K15 -> 0 | AO15: =AM15*$E15 -> 0 | AP15: 0 | AQ15: =AP15*$K15 -> 0 | AR15: =AP15*$E15 -> 0 | AS15: 0 | AT15: =AS15*$K15 -> 0 | AU15: =AS15*$E15 -> 0 | AV15: 0 | AW15: =AV15*$K15 -> 0 | AX15: =AV15*$E15 -> 0 | AY15: 0 | AZ15: =AY15*$K15 -> 0 | BA15: =AY15*$E15 -> 0 | BB15: 0 | BC15: =BB15*$K15 -> 0 | BD15: =BB15*$E15 -> 0 | BE15: 0 | BF15: =BE15*$K15 -> 0 | BG15: =BE15*$E15 -> 0 | BH15: 0 | BI15: =BH15*$K15 -> 0 | BJ15: =BH15*$E15 -> 0 | BK15: 0 | BL15: =BK15*$K15 -> 0 | BM15: =BK15*$E15 -> 0 | BN15: 0 | BO15: =BN15*$K15 -> 0 | BP15: =BN15*$E15 -> 0 | BQ15: 0 | BR15: =BQ15*$K15 -> 0 | BS15: =BQ15*$E15 -> 0 | BT15: 0 | BU15: =BT15*$K15 -> 0 | BV15: =BT15*$E15 -> 0 | BW15: 0 | BX15: =BW15*$K15 -> 0 | BY15: =BW15*$E15 -> 0 | BZ15: 0 | CA15: =BZ15*$K15 -> 0 | CB15: =BZ15*$E15 -> 0 | CC15: 0 | CD15: =CC15*$K15 -> 0 | CE15: =CC15*$E15 -> 0 | CF15: 0 | CG15: =CF15*$K15 -> 0 | CH15: =CF15*$E15 -> 0 | CI15: 0 | CJ15: =CI15*$K15 -> 0 | CK15: =CI15*$E15 -> 0 | CL15: 0 | CM15: =CL15*$K15 -> 0 | CN15: =CL15*$E15 -> 0 | CO15: 0 | CP15: =CO15*$K15 -> 0 | CQ15: =CO15*$E15 -> 0 | CR15: 0 | CS15: =CR15*$K15 -> 0 | CT15: =CR15*$E15 -> 0 | CU15: 0 | CV15: =CU15*$K15 -> 0 | CW15: =CU15*$E15 -> 0 | CX15: 0 | CY15: =CX15*$K15 -> 0 | CZ15: =CX15*$E15 -> 0 | DA15: 0 | DB15: =DA15*$K15 -> 0 | DC15: =DA15*$E15 -> 0 | DD15: 0 | DE15: =DD15*$K15 -> 0 | DF15: =DD15*$E15 -> 0 | DG15: 0 | DH15: =DG15*$K15 -> 0 | DI15: =DG15*$E15 -> 0 | DJ15: 0 | DK15: =DJ15*$K15 -> 0 | DL15: =DJ15*$E15 -> 0 | DM15: 0 | DN15: =DM15*$K15 -> 0 | DO15: =DM15*$E15 -> 0 | DP15: 0 | DQ15: =DP15*$K15 -> 0 | DR15: =DP15*$E15 -> 0 | DS15: 0 | DT15: =DS15*$K15 -> 0 | DU15: =DS15*$E15 -> 0 | DV15: 0 | DW15: =DV15*$K15 -> 0 | DX15: =DV15*$E15 -> 0 | DY15: 0 | DZ15: =DY15*$K15 -> 0 | EA15: =DY15*$E15 -> 0 | EB15: 0 | EC15: =EB15*$K15 -> 0 | ED15: =EB15*$E15 -> 0 | EF15: =SUM(L15,O15,R15,U15,X15,AA15)+SUM(AD15,AG15,AJ15,AM15,AP15,AS15,AV15,AY15)+SUM(BB15,BE15,BH15,BK15,BN15,BQ15,BT15,BW15,BZ15)+SUM(CC15,CF15,CI15,CL15,CO15,CR15,CU15+CX15+DA15)+SUM(DD15,DG15,DJ15,DM15,DP15,DS15,DV15)+SUM(DY15,EB15) -> 0
A16: Employee Name | B16: Position Description | C16: 0.0001 | D16: =C16*D$8 -> 0 | E16: =C16+D16 -> 0.0001 | F16: 0.0001 | G16: 0 | H16: 0 | I16: 0 | J16: 0 | K16: =F16-SUM(G16:J16) -> 0.0001 | L16: 0 | M16: =L16*$K16 -> 0 | N16: =IFERROR((M16/$K16)*$E16,0) -> 0 | O16: 0 | P16: =O16*$K16 -> 0 | Q16: =IFERROR((P16/$K16)*$E16,0) -> 0 | R16: 0 | S16: =R16*$K16 -> 0 | T16: =R16*$E16 -> 0 | U16: 0 | V16: =U16*$K16 -> 0 | W16: =U16*$E16 -> 0 | X16: 0 | Y16: =X16*$K16 -> 0 | Z16: =X16*$E16 -> 0 | AA16: 0 | AB16: =AA16*$K16 -> 0 | AC16: =AA16*$E16 -> 0 | AD16: 0 | AE16: =AD16*$K16 -> 0 | AF16: =AD16*$E16 -> 0 | AG16: 0 | AH16: =AG16*$K16 -> 0 | AI16: =AG16*$E16 -> 0 | AJ16: 0 | AK16: =AJ16*$K16 -> 0 | AL16: =AJ16*$E16 -> 0 | AM16: 0 | AN16: =AM16*$K16 -> 0 | AO16: =AM16*$E16 -> 0 | AP16: 0 | AQ16: =AP16*$K16 -> 0 | AR16: =AP16*$E16 -> 0 | AS16: 0 | AT16: =AS16*$K16 -> 0 | AU16: =AS16*$E16 -> 0 | AV16: 0 | AW16: =AV16*$K16 -> 0 | AX16: =AV16*$E16 -> 0 | AY16: 0 | AZ16: =AY16*$K16 -> 0 | BA16: =AY16*$E16 -> 0 | BB16: 0 | BC16: =BB16*$K16 -> 0 | BD16: =BB16*$E16 -> 0 | BE16: 0 | BF16: =BE16*$K16 -> 0 | BG16: =BE16*$E16 -> 0 | BH16: 0 | BI16: =BH16*$K16 -> 0 | BJ16: =BH16*$E16 -> 0 | BK16: 0 | BL16: =BK16*$K16 -> 0 | BM16: =BK16*$E16 -> 0 | BN16: 0 | BO16: =BN16*$K16 -> 0 | BP16: =BN16*$E16 -> 0 | BQ16: 0 | BR16: =BQ16*$K16 -> 0 | BS16: =BQ16*$E16 -> 0 | BT16: 0 | BU16: =BT16*$K16 -> 0 | BV16: =BT16*$E16 -> 0 | BW16: 0 | BX16: =BW16*$K16 -> 0 | BY16: =BW16*$E16 -> 0 | BZ16: 0 | CA16: =BZ16*$K16 -> 0 | CB16: =BZ16*$E16 -> 0 | CC16: 0 | CD16: =CC16*$K16 -> 0 | CE16: =CC16*$E16 -> 0 | CF16: 0 | CG16: =CF16*$K16 -> 0 | CH16: =CF16*$E16 -> 0 | CI16: 0 | CJ16: =CI16*$K16 -> 0 | CK16: =CI16*$E16 -> 0 | CL16: 0 | CM16: =CL16*$K16 -> 0 | CN16: =CL16*$E16 -> 0 | CO16: 0 | CP16: =CO16*$K16 -> 0 | CQ16: =CO16*$E16 -> 0 | CR16: 0 | CS16: =CR16*$K16 -> 0 | CT16: =CR16*$E16 -> 0 | CU16: 0 | CV16: =CU16*$K16 -> 0 | CW16: =CU16*$E16 -> 0 | CX16: 0 | CY16: =CX16*$K16 -> 0 | CZ16: =CX16*$E16 -> 0 | DA16: 0 | DB16: =DA16*$K16 -> 0 | DC16: =DA16*$E16 -> 0 | DD16: 0 | DE16: =DD16*$K16 -> 0 | DF16: =DD16*$E16 -> 0 | DG16: 0 | DH16: =DG16*$K16 -> 0 | DI16: =DG16*$E16 -> 0 | DJ16: 0 | DK16: =DJ16*$K16 -> 0 | DL16: =DJ16*$E16 -> 0 | DM16: 0 | DN16: =DM16*$K16 -> 0 | DO16: =DM16*$E16 -> 0 | DP16: 0 | DQ16: =DP16*$K16 -> 0 | DR16: =DP16*$E16 -> 0 | DS16: 0 | DT16: =DS16*$K16 -> 0 | DU16: =DS16*$E16 -> 0 | DV16: 0 | DW16: =DV16*$K16 -> 0 | DX16: =DV16*$E16 -> 0 | DY16: 0 | DZ16: =DY16*$K16 -> 0 | EA16: =DY16*$E16 -> 0 | EB16: 0 | EC16: =EB16*$K16 -> 0 | ED16: =EB16*$E16 -> 0 | EF16: =SUM(L16,O16,R16,U16,X16,AA16)+SUM(AD16,AG16,AJ16,AM16,AP16,AS16,AV16,AY16)+SUM(BB16,BE16,BH16,BK16,BN16,BQ16,BT16,BW16,BZ16)+SUM(CC16,CF16,CI16,CL16,CO16,CR16,CU16+CX16+DA16)+SUM(DD16,DG16,DJ16,DM16,DP16,DS16,DV16)+SUM(DY16,EB16) -> 0
A17: Employee Name | B17: Position Description | C17: 0.0001 | D17: =C17*D$8 -> 0 | E17: =C17+D17 -> 0.0001 | F17: 0.0001 | G17: 0 | H17: 0 | I17: 0 | J17: 0 | K17: =F17-SUM(G17:J17) -> 0.0001 | L17: 0 | M17: =L17*$K17 -> 0 | N17: =IFERROR((M17/$K17)*$E17,0) -> 0 | O17: 0 | P17: =O17*$K17 -> 0 | Q17: =IFERROR((P17/$K17)*$E17,0) -> 0 | R17: 0 | S17: =R17*$K17 -> 0 | T17: =R17*$E17 -> 0 | U17: 0 | V17: =U17*$K17 -> 0 | W17: =U17*$E17 -> 0 | X17: 0 | Y17: =X17*$K17 -> 0 | Z17: =X17*$E17 -> 0 | AA17: 0 | AB17: =AA17*$K17 -> 0 | AC17: =AA17*$E17 -> 0 | AD17: 0 | AE17: =AD17*$K17 -> 0 | AF17: =AD17*$E17 -> 0 | AG17: 0 | AH17: =AG17*$K17 -> 0 | AI17: =AG17*$E17 -> 0 | AJ17: 0 | AK17: =AJ17*$K17 -> 0 | AL17: =AJ17*$E17 -> 0 | AM17: 0 | AN17: =AM17*$K17 -> 0 | AO17: =AM17*$E17 -> 0 | AP17: 0 | AQ17: =AP17*$K17 -> 0 | AR17: =AP17*$E17 -> 0 | AS17: 0 | AT17: =AS17*$K17 -> 0 | AU17: =AS17*$E17 -> 0 | AV17: 0 | AW17: =AV17*$K17 -> 0 | AX17: =AV17*$E17 -> 0 | AY17: 0 | AZ17: =AY17*$K17 -> 0 | BA17: =AY17*$E17 -> 0 | BB17: 0 | BC17: =BB17*$K17 -> 0 | BD17: =BB17*$E17 -> 0 | BE17: 0 | BF17: =BE17*$K17 -> 0 | BG17: =BE17*$E17 -> 0 | BH17: 0 | BI17: =BH17*$K17 -> 0 | BJ17: =BH17*$E17 -> 0 | BK17: 0 | BL17: =BK17*$K17 -> 0 | BM17: =BK17*$E17 -> 0 | BN17: 0 | BO17: =BN17*$K17 -> 0 | BP17: =BN17*$E17 -> 0 | BQ17: 0 | BR17: =BQ17*$K17 -> 0 | BS17: =BQ17*$E17 -> 0 | BT17: 0 | BU17: =BT17*$K17 -> 0 | BV17: =BT17*$E17 -> 0 | BW17: 0 | BX17: =BW17*$K17 -> 0 | BY17: =BW17*$E17 -> 0 | BZ17: 0 | CA17: =BZ17*$K17 -> 0 | CB17: =BZ17*$E17 -> 0 | CC17: 0 | CD17: =CC17*$K17 -> 0 | CE17: =CC17*$E17 -> 0 | CF17: 0 | CG17: =CF17*$K17 -> 0 | CH17: =CF17*$E17 -> 0 | CI17: 0 | CJ17: =CI17*$K17 -> 0 | CK17: =CI17*$E17 -> 0 | CL17: 0 | CM17: =CL17*$K17 -> 0 | CN17: =CL17*$E17 -> 0 | CO17: 0 | CP17: =CO17*$K17 -> 0 | CQ17: =CO17*$E17 -> 0 | CR17: 0 | CS17: =CR17*$K17 -> 0 | CT17: =CR17*$E17 -> 0 | CU17: 0 | CV17: =CU17*$K17 -> 0 | CW17: =CU17*$E17 -> 0 | CX17: 0 | CY17: =CX17*$K17 -> 0 | CZ17: =CX17*$E17 -> 0 | DA17: 0 | DB17: =DA17*$K17 -> 0 | DC17: =DA17*$E17 -> 0 | DD17: 0 | DE17: =DD17*$K17 -> 0 | DF17: =DD17*$E17 -> 0 | DG17: 0 | DH17: =DG17*$K17 -> 0 | DI17: =DG17*$E17 -> 0 | DJ17: 0 | DK17: =DJ17*$K17 -> 0 | DL17: =DJ17*$E17 -> 0 | DM17: 0 | DN17: =DM17*$K17 -> 0 | DO17: =DM17*$E17 -> 0 | DP17: 0 | DQ17: =DP17*$K17 -> 0 | DR17: =DP17*$E17 -> 0 | DS17: 0 | DT17: =DS17*$K17 -> 0 | DU17: =DS17*$E17 -> 0 | DV17: 0 | DW17: =DV17*$K17 -> 0 | DX17: =DV17*$E17 -> 0 | DY17: 0 | DZ17: =DY17*$K17 -> 0 | EA17: =DY17*$E17 -> 0 | EB17: 0 | EC17: =EB17*$K17 -> 0 | ED17: =EB17*$E17 -> 0 | EF17: =SUM(L17,O17,R17,U17,X17,AA17)+SUM(AD17,AG17,AJ17,AM17,AP17,AS17,AV17,AY17)+SUM(BB17,BE17,BH17,BK17,BN17,BQ17,BT17,BW17,BZ17)+SUM(CC17,CF17,CI17,CL17,CO17,CR17,CU17+CX17+DA17)+SUM(DD17,DG17,DJ17,DM17,DP17,DS17,DV17)+SUM(DY17,EB17) -> 0
A18: Employee Name | B18: Position Description | C18: 0.0001 | D18: =C18*D$8 -> 0 | E18: =C18+D18 -> 0.0001 | F18: 0.0001 | G18: 0 | H18: 0 | I18: 0 | J18: 0 | K18: =F18-SUM(G18:J18) -> 0.0001 | L18: 0 | M18: =L18*$K18 -> 0 | N18: =IFERROR((M18/$K18)*$E18,0) -> 0 | O18: 0 | P18: =O18*$K18 -> 0 | Q18: =IFERROR((P18/$K18)*$E18,0) -> 0 | R18: 0 | S18: =R18*$K18 -> 0 | T18: =R18*$E18 -> 0 | U18: 0 | V18: =U18*$K18 -> 0 | W18: =U18*$E18 -> 0 | X18: 0 | Y18: =X18*$K18 -> 0 | Z18: =X18*$E18 -> 0 | AA18: 0 | AB18: =AA18*$K18 -> 0 | AC18: =AA18*$E18 -> 0 | AD18: 0 | AE18: =AD18*$K18 -> 0 | AF18: =AD18*$E18 -> 0 | AG18: 0 | AH18: =AG18*$K18 -> 0 | AI18: =AG18*$E18 -> 0 | AJ18: 0 | AK18: =AJ18*$K18 -> 0 | AL18: =AJ18*$E18 -> 0 | AM18: 0 | AN18: =AM18*$K18 -> 0 | AO18: =AM18*$E18 -> 0 | AP18: 0 | AQ18: =AP18*$K18 -> 0 | AR18: =AP18*$E18 -> 0 | AS18: 0 | AT18: =AS18*$K18 -> 0 | AU18: =AS18*$E18 -> 0 | AV18: 0 | AW18: =AV18*$K18 -> 0 | AX18: =AV18*$E18 -> 0 | AY18: 0 | AZ18: =AY18*$K18 -> 0 | BA18: =AY18*$E18 -> 0 | BB18: 0 | BC18: =BB18*$K18 -> 0 | BD18: =BB18*$E18 -> 0 | BE18: 0 | BF18: =BE18*$K18 -> 0 | BG18: =BE18*$E18 -> 0 | BH18: 0 | BI18: =BH18*$K18 -> 0 | BJ18: =BH18*$E18 -> 0 | BK18: 0 | BL18: =BK18*$K18 -> 0 | BM18: =BK18*$E18 -> 0 | BN18: 0 | BO18: =BN18*$K18 -> 0 | BP18: =BN18*$E18 -> 0 | BQ18: 0 | BR18: =BQ18*$K18 -> 0 | BS18: =BQ18*$E18 -> 0 | BT18: 0 | BU18: =BT18*$K18 -> 0 | BV18: =BT18*$E18 -> 0 | BW18: 0 | BX18: =BW18*$K18 -> 0 | BY18: =BW18*$E18 -> 0 | BZ18: 0 | CA18: =BZ18*$K18 -> 0 | CB18: =BZ18*$E18 -> 0 | CC18: 0 | CD18: =CC18*$K18 -> 0 | CE18: =CC18*$E18 -> 0 | CF18: 0 | CG18: =CF18*$K18 -> 0 | CH18: =CF18*$E18 -> 0 | CI18: 0 | CJ18: =CI18*$K18 -> 0 | CK18: =CI18*$E18 -> 0 | CL18: 0 | CM18: =CL18*$K18 -> 0 | CN18: =CL18*$E18 -> 0 | CO18: 0 | CP18: =CO18*$K18 -> 0 | CQ18: =CO18*$E18 -> 0 | CR18: 0 | CS18: =CR18*$K18 -> 0 | CT18: =CR18*$E18 -> 0 | CU18: 0 | CV18: =CU18*$K18 -> 0 | CW18: =CU18*$E18 -> 0 | CX18: 0 | CY18: =CX18*$K18 -> 0 | CZ18: =CX18*$E18 -> 0 | DA18: 0 | DB18: =DA18*$K18 -> 0 | DC18: =DA18*$E18 -> 0 | DD18: 0 | DE18: =DD18*$K18 -> 0 | DF18: =DD18*$E18 -> 0 | DG18: 0 | DH18: =DG18*$K18 -> 0 | DI18: =DG18*$E18 -> 0 | DJ18: 0 | DK18: =DJ18*$K18 -> 0 | DL18: =DJ18*$E18 -> 0 | DM18: 0 | DN18: =DM18*$K18 -> 0 | DO18: =DM18*$E18 -> 0 | DP18: 0 | DQ18: =DP18*$K18 -> 0 | DR18: =DP18*$E18 -> 0 | DS18: 0 | DT18: =DS18*$K18 -> 0 | DU18: =DS18*$E18 -> 0 | DV18: 0 | DW18: =DV18*$K18 -> 0 | DX18: =DV18*$E18 -> 0 | DY18: 0 | DZ18: =DY18*$K18 -> 0 | EA18: =DY18*$E18 -> 0 | EB18: 0 | EC18: =EB18*$K18 -> 0 | ED18: =EB18*$E18 -> 0 | EF18: =SUM(L18,O18,R18,U18,X18,AA18)+SUM(AD18,AG18,AJ18,AM18,AP18,AS18,AV18,AY18)+SUM(BB18,BE18,BH18,BK18,BN18,BQ18,BT18,BW18,BZ18)+SUM(CC18,CF18,CI18,CL18,CO18,CR18,CU18+CX18+DA18)+SUM(DD18,DG18,DJ18,DM18,DP18,DS18,DV18)+SUM(DY18,EB18) -> 0
A19: Employee Name | B19: Position Description | C19: 0.0001 | D19: =C19*D$8 -> 0 | E19: =C19+D19 -> 0.0001 | F19: 0.0001 | G19: 0 | H19: 0 | I19: 0 | J19: 0 | K19: =F19-SUM(G19:J19) -> 0.0001 | L19: 0 | M19: =L19*$K19 -> 0 | N19: =IFERROR((M19/$K19)*$E19,0) -> 0 | O19: 0 | P19: =O19*$K19 -> 0 | Q19: =IFERROR((P19/$K19)*$E19,0) -> 0 | R19: 0 | S19: =R19*$K19 -> 0 | T19: =R19*$E19 -> 0 | U19: 0 | V19: =U19*$K19 -> 0 | W19: =U19*$E19 -> 0 | X19: 0 | Y19: =X19*$K19 -> 0 | Z19: =X19*$E19 -> 0 | AA19: 0 | AB19: =AA19*$K19 -> 0 | AC19: =AA19*$E19 -> 0 | AD19: 0 | AE19: =AD19*$K19 -> 0 | AF19: =AD19*$E19 -> 0 | AG19: 0 | AH19: =AG19*$K19 -> 0 | AI19: =AG19*$E19 -> 0 | AJ19: 0 | AK19: =AJ19*$K19 -> 0 | AL19: =AJ19*$E19 -> 0 | AM19: 0 | AN19: =AM19*$K19 -> 0 | AO19: =AM19*$E19 -> 0 | AP19: 0 | AQ19: =AP19*$K19 -> 0 | AR19: =AP19*$E19 -> 0 | AS19: 0 | AT19: =AS19*$K19 -> 0 | AU19: =AS19*$E19 -> 0 | AV19: 0 | AW19: =AV19*$K19 -> 0 | AX19: =AV19*$E19 -> 0 | AY19: 0 | AZ19: =AY19*$K19 -> 0 | BA19: =AY19*$E19 -> 0 | BB19: 0 | BC19: =BB19*$K19 -> 0 | BD19: =BB19*$E19 -> 0 | BE19: 0 | BF19: =BE19*$K19 -> 0 | BG19: =BE19*$E19 -> 0 | BH19: 0 | BI19: =BH19*$K19 -> 0 | BJ19: =BH19*$E19 -> 0 | BK19: 0 | BL19: =BK19*$K19 -> 0 | BM19: =BK19*$E19 -> 0 | BN19: 0 | BO19: =BN19*$K19 -> 0 | BP19: =BN19*$E19 -> 0 | BQ19: 0 | BR19: =BQ19*$K19 -> 0 | BS19: =BQ19*$E19 -> 0 | BT19: 0 | BU19: =BT19*$K19 -> 0 | BV19: =BT19*$E19 -> 0 | BW19: 0 | BX19: =BW19*$K19 -> 0 | BY19: =BW19*$E19 -> 0 | BZ19: 0 | CA19: =BZ19*$K19 -> 0 | CB19: =BZ19*$E19 -> 0 | CC19: 0 | CD19: =CC19*$K19 -> 0 | CE19: =CC19*$E19 -> 0 | CF19: 0 | CG19: =CF19*$K19 -> 0 | CH19: =CF19*$E19 -> 0 | CI19: 0 | CJ19: =CI19*$K19 -> 0 | CK19: =CI19*$E19 -> 0 | CL19: 0 | CM19: =CL19*$K19 -> 0 | CN19: =CL19*$E19 -> 0 | CO19: 0 | CP19: =CO19*$K19 -> 0 | CQ19: =CO19*$E19 -> 0 | CR19: 0 | CS19: =CR19*$K19 -> 0 | CT19: =CR19*$E19 -> 0 | CU19: 0 | CV19: =CU19*$K19 -> 0 | CW19: =CU19*$E19 -> 0 | CX19: 0 | CY19: =CX19*$K19 -> 0 | CZ19: =CX19*$E19 -> 0 | DA19: 0 | DB19: =DA19*$K19 -> 0 | DC19: =DA19*$E19 -> 0 | DD19: 0 | DE19: =DD19*$K19 -> 0 | DF19: =DD19*$E19 -> 0 | DG19: 0 | DH19: =DG19*$K19 -> 0 | DI19: =DG19*$E19 -> 0 | DJ19: 0 | DK19: =DJ19*$K19 -> 0 | DL19: =DJ19*$E19 -> 0 | DM19: 0 | DN19: =DM19*$K19 -> 0 | DO19: =DM19*$E19 -> 0 | DP19: 0 | DQ19: =DP19*$K19 -> 0 | DR19: =DP19*$E19 -> 0 | DS19: 0 | DT19: =DS19*$K19 -> 0 | DU19: =DS19*$E19 -> 0 | DV19: 0 | DW19: =DV19*$K19 -> 0 | DX19: =DV19*$E19 -> 0 | DY19: 0 | DZ19: =DY19*$K19 -> 0 | EA19: =DY19*$E19 -> 0 | EB19: 0 | EC19: =EB19*$K19 -> 0 | ED19: =EB19*$E19 -> 0 | EF19: =SUM(L19,O19,R19,U19,X19,AA19)+SUM(AD19,AG19,AJ19,AM19,AP19,AS19,AV19,AY19)+SUM(BB19,BE19,BH19,BK19,BN19,BQ19,BT19,BW19,BZ19)+SUM(CC19,CF19,CI19,CL19,CO19,CR19,CU19+CX19+DA19)+SUM(DD19,DG19,DJ19,DM19,DP19,DS19,DV19)+SUM(DY19,EB19) -> 0
A20: Employee Name | B20: Position Description | C20: 0.0001 | D20: =C20*D$8 -> 0 | E20: =C20+D20 -> 0.0001 | F20: 0.0001 | G20: 0 | H20: 0 | I20: 0 | J20: 0 | K20: =F20-SUM(G20:J20) -> 0.0001 | L20: 0 | M20: =L20*$K20 -> 0 | N20: =IFERROR((M20/$K20)*$E20,0) -> 0 | O20: 0 | P20: =O20*$K20 -> 0 | Q20: =IFERROR((P20/$K20)*$E20,0) -> 0 | R20: 0 | S20: =R20*$K20 -> 0 | T20: =R20*$E20 -> 0 | U20: 0 | V20: =U20*$K20 -> 0 | W20: =U20*$E20 -> 0 | X20: 0 | Y20: =X20*$K20 -> 0 | Z20: =X20*$E20 -> 0 | AA20: 0 | AB20: =AA20*$K20 -> 0 | AC20: =AA20*$E20 -> 0 | AD20: 0 | AE20: =AD20*$K20 -> 0 | AF20: =AD20*$E20 -> 0 | AG20: 0 | AH20: =AG20*$K20 -> 0 | AI20: =AG20*$E20 -> 0 | AJ20: 0 | AK20: =AJ20*$K20 -> 0 | AL20: =AJ20*$E20 -> 0 | AM20: 0 | AN20: =AM20*$K20 -> 0 | AO20: =AM20*$E20 -> 0 | AP20: 0 | AQ20: =AP20*$K20 -> 0 | AR20: =AP20*$E20 -> 0 | AS20: 0 | AT20: =AS20*$K20 -> 0 | AU20: =AS20*$E20 -> 0 | AV20: 0 | AW20: =AV20*$K20 -> 0 | AX20: =AV20*$E20 -> 0 | AY20: 0 | AZ20: =AY20*$K20 -> 0 | BA20: =AY20*$E20 -> 0 | BB20: 0 | BC20: =BB20*$K20 -> 0 | BD20: =BB20*$E20 -> 0 | BE20: 0 | BF20: =BE20*$K20 -> 0 | BG20: =BE20*$E20 -> 0 | BH20: 0 | BI20: =BH20*$K20 -> 0 | BJ20: =BH20*$E20 -> 0 | BK20: 0 | BL20: =BK20*$K20 -> 0 | BM20: =BK20*$E20 -> 0 | BN20: 0 | BO20: =BN20*$K20 -> 0 | BP20: =BN20*$E20 -> 0 | BQ20: 0 | BR20: =BQ20*$K20 -> 0 | BS20: =BQ20*$E20 -> 0 | BT20: 0 | BU20: =BT20*$K20 -> 0 | BV20: =BT20*$E20 -> 0 | BW20: 0 | BX20: =BW20*$K20 -> 0 | BY20: =BW20*$E20 -> 0 | BZ20: 0 | CA20: =BZ20*$K20 -> 0 | CB20: =BZ20*$E20 -> 0 | CC20: 0 | CD20: =CC20*$K20 -> 0 | CE20: =CC20*$E20 -> 0 | CF20: 0 | CG20: =CF20*$K20 -> 0 | CH20: =CF20*$E20 -> 0 | CI20: 0 | CJ20: =CI20*$K20 -> 0 | CK20: =CI20*$E20 -> 0 | CL20: 0 | CM20: =CL20*$K20 -> 0 | CN20: =CL20*$E20 -> 0 | CO20: 0 | CP20: =CO20*$K20 -> 0 | CQ20: =CO20*$E20 -> 0 | CR20: 0 | CS20: =CR20*$K20 -> 0 | CT20: =CR20*$E20 -> 0 | CU20: 0 | CV20: =CU20*$K20 -> 0 | CW20: =CU20*$E20 -> 0 | CX20: 0 | CY20: =CX20*$K20 -> 0 | CZ20: =CX20*$E20 -> 0 | DA20: 0 | DB20: =DA20*$K20 -> 0 | DC20: =DA20*$E20 -> 0 | DD20: 0 | DE20: =DD20*$K20 -> 0 | DF20: =DD20*$E20 -> 0 | DG20: 0 | DH20: =DG20*$K20 -> 0 | DI20: =DG20*$E20 -> 0 | DJ20: 0 | DK20: =DJ20*$K20 -> 0 | DL20: =DJ20*$E20 -> 0 | DM20: 0 | DN20: =DM20*$K20 -> 0 | DO20: =DM20*$E20 -> 0 | DP20: 0 | DQ20: =DP20*$K20 -> 0 | DR20: =DP20*$E20 -> 0 | DS20: 0 | DT20: =DS20*$K20 -> 0 | DU20: =DS20*$E20 -> 0 | DV20: 0 | DW20: =DV20*$K20 -> 0 | DX20: =DV20*$E20 -> 0 | DY20: 0 | DZ20: =DY20*$K20 -> 0 | EA20: =DY20*$E20 -> 0 | EB20: 0 | EC20: =EB20*$K20 -> 0 | ED20: =EB20*$E20 -> 0 | EF20: =SUM(L20,O20,R20,U20,X20,AA20)+SUM(AD20,AG20,AJ20,AM20,AP20,AS20,AV20,AY20)+SUM(BB20,BE20,BH20,BK20,BN20,BQ20,BT20,BW20,BZ20)+SUM(CC20,CF20,CI20,CL20,CO20,CR20,CU20+CX20+DA20)+SUM(DD20,DG20,DJ20,DM20,DP20,DS20,DV20)+SUM(DY20,EB20) -> 0
A21: Employee Name | B21: Position Description | C21: 0.0001 | D21: =C21*D$8 -> 0 | E21: =C21+D21 -> 0.0001 | F21: 0.0001 | G21: 0 | H21: 0 | I21: 0 | J21: 0 | K21: =F21-SUM(G21:J21) -> 0.0001 | L21: 0 | M21: =L21*$K21 -> 0 | N21: =IFERROR((M21/$K21)*$E21,0) -> 0 | O21: 0 | P21: =O21*$K21 -> 0 | Q21: =IFERROR((P21/$K21)*$E21,0) -> 0 | R21: 0 | S21: =R21*$K21 -> 0 | T21: =R21*$E21 -> 0 | U21: 0 | V21: =U21*$K21 -> 0 | W21: =U21*$E21 -> 0 | X21: 0 | Y21: =X21*$K21 -> 0 | Z21: =X21*$E21 -> 0 | AA21: 0 | AB21: =AA21*$K21 -> 0 | AC21: =AA21*$E21 -> 0 | AD21: 0 | AE21: =AD21*$K21 -> 0 | AF21: =AD21*$E21 -> 0 | AG21: 0 | AH21: =AG21*$K21 -> 0 | AI21: =AG21*$E21 -> 0 | AJ21: 0 | AK21: =AJ21*$K21 -> 0 | AL21: =AJ21*$E21 -> 0 | AM21: 0 | AN21: =AM21*$K21 -> 0 | AO21: =AM21*$E21 -> 0 | AP21: 0 | AQ21: =AP21*$K21 -> 0 | AR21: =AP21*$E21 -> 0 | AS21: 0 | AT21: =AS21*$K21 -> 0 | AU21: =AS21*$E21 -> 0 | AV21: 0 | AW21: =AV21*$K21 -> 0 | AX21: =AV21*$E21 -> 0 | AY21: 0 | AZ21: =AY21*$K21 -> 0 | BA21: =AY21*$E21 -> 0 | BB21: 0 | BC21: =BB21*$K21 -> 0 | BD21: =BB21*$E21 -> 0 | BE21: 0 | BF21: =BE21*$K21 -> 0 | BG21: =BE21*$E21 -> 0 | BH21: 0 | BI21: =BH21*$K21 -> 0 | BJ21: =BH21*$E21 -> 0 | BK21: 0 | BL21: =BK21*$K21 -> 0 | BM21: =BK21*$E21 -> 0 | BN21: 0 | BO21: =BN21*$K21 -> 0 | BP21: =BN21*$E21 -> 0 | BQ21: 0 | BR21: =BQ21*$K21 -> 0 | BS21: =BQ21*$E21 -> 0 | BT21: 0 | BU21: =BT21*$K21 -> 0 | BV21: =BT21*$E21 -> 0 | BW21: 0 | BX21: =BW21*$K21 -> 0 | BY21: =BW21*$E21 -> 0 | BZ21: 0 | CA21: =BZ21*$K21 -> 0 | CB21: =BZ21*$E21 -> 0 | CC21: 0 | CD21: =CC21*$K21 -> 0 | CE21: =CC21*$E21 -> 0 | CF21: 0 | CG21: =CF21*$K21 -> 0 | CH21: =CF21*$E21 -> 0 | CI21: 0 | CJ21: =CI21*$K21 -> 0 | CK21: =CI21*$E21 -> 0 | CL21: 0 | CM21: =CL21*$K21 -> 0 | CN21: =CL21*$E21 -> 0 | CO21: 0 | CP21: =CO21*$K21 -> 0 | CQ21: =CO21*$E21 -> 0 | CR21: 0 | CS21: =CR21*$K21 -> 0 | CT21: =CR21*$E21 -> 0 | CU21: 0 | CV21: =CU21*$K21 -> 0 | CW21: =CU21*$E21 -> 0 | CX21: 0 | CY21: =CX21*$K21 -> 0 | CZ21: =CX21*$E21 -> 0 | DA21: 0 | DB21: =DA21*$K21 -> 0 | DC21: =DA21*$E21 -> 0 | DD21: 0 | DE21: =DD21*$K21 -> 0 | DF21: =DD21*$E21 -> 0 | DG21: 0 | DH21: =DG21*$K21 -> 0 | DI21: =DG21*$E21 -> 0 | DJ21: 0 | DK21: =DJ21*$K21 -> 0 | DL21: =DJ21*$E21 -> 0 | DM21: 0 | DN21: =DM21*$K21 -> 0 | DO21: =DM21*$E21 -> 0 | DP21: 0 | DQ21: =DP21*$K21 -> 0 | DR21: =DP21*$E21 -> 0 | DS21: 0 | DT21: =DS21*$K21 -> 0 | DU21: =DS21*$E21 -> 0 | DV21: 0 | DW21: =DV21*$K21 -> 0 | DX21: =DV21*$E21 -> 0 | DY21: 0 | DZ21: =DY21*$K21 -> 0 | EA21: =DY21*$E21 -> 0 | EB21: 0 | EC21: =EB21*$K21 -> 0 | ED21: =EB21*$E21 -> 0 | EF21: =SUM(L21,O21,R21,U21,X21,AA21)+SUM(AD21,AG21,AJ21,AM21,AP21,AS21,AV21,AY21)+SUM(BB21,BE21,BH21,BK21,BN21,BQ21,BT21,BW21,BZ21)+SUM(CC21,CF21,CI21,CL21,CO21,CR21,CU21+CX21+DA21)+SUM(DD21,DG21,DJ21,DM21,DP21,DS21,DV21)+SUM(DY21,EB21) -> 0
... A35: Employee Name | B35: Position Description | C35: 0.0001 | D35: =C35*D$8 -> 0 | E35: =C35+D35 -> 0.0001 | F35: 0.0001 | G35: 0 | H35: 0 | I35: 0 | J35: 0 | K35: =F35-SUM(G35:J35) -> 0.0001 | L35: 0 | M35: =L35*$K35 -> 0 | N35: =IFERROR((M35/$K35)*$E35,0) -> 0 | O35: 0 | P35: =O35*$K35 -> 0 | Q35: =IFERROR((P35/$K35)*$E35,0) -> 0 | R35: 0 | S35: =R35*$K35 -> 0 | T35: =R35*$E35 -> 0 | U35: 0 | V35: =U35*$K35 -> 0 | W35: =U35*$E35 -> 0 | X35: 0 | Y35: =X35*$K35 -> 0 | Z35: =X35*$E35 -> 0 | AA35: 0 | AB35: =AA35*$K35 -> 0 | AC35: =AA35*$E35 -> 0 | AD35: 0 | AE35: =AD35*$K35 -> 0 | AF35: =AD35*$E35 -> 0 | AG35: 0 | AH35: =AG35*$K35 -> 0 | AI35: =AG35*$E35 -> 0 | AJ35: 0 | AK35: =AJ35*$K35 -> 0 | AL35: =AJ35*$E35 -> 0 | AM35: 0 | AN35: =AM35*$K35 -> 0 | AO35: =AM35*$E35 -> 0 | AP35: 0 | AQ35: =AP35*$K35 -> 0 | AR35: =AP35*$E35 -> 0 | AS35: 0 | AT35: =AS35*$K35 -> 0 | AU35: =AS35*$E35 -> 0 | AV35: 0 | AW35: =AV35*$K35 -> 0 | AX35: =AV35*$E35 -> 0 | AY35: 0 | AZ35: =AY35*$K35 -> 0 | BA35: =AY35*$E35 -> 0 | BB35: 0 | BC35: =BB35*$K35 -> 0 | BD35: =BB35*$E35 -> 0 | BE35: 0 | BF35: =BE35*$K35 -> 0 | BG35: =BE35*$E35 -> 0 | BH35: 0 | BI35: =BH35*$K35 -> 0 | BJ35: =BH35*$E35 -> 0 | BK35: 0 | BL35: =BK35*$K35 -> 0 | BM35: =BK35*$E35 -> 0 | BN35: 0 | BO35: =BN35*$K35 -> 0 | BP35: =BN35*$E35 -> 0 | BQ35: 0 | BR35: =BQ35*$K35 -> 0 | BS35: =BQ35*$E35 -> 0 | BT35: 0 | BU35: =BT35*$K35 -> 0 | BV35: =BT35*$E35 -> 0 | BW35: 0 | BX35: =BW35*$K35 -> 0 | BY35: =BW35*$E35 -> 0 | BZ35: 0 | CA35: =BZ35*$K35 -> 0 | CB35: =BZ35*$E35 -> 0 | CC35: 0 | CD35: =CC35*$K35 -> 0 | CE35: =CC35*$E35 -> 0 | CF35: 0 | CG35: =CF35*$K35 -> 0 | CH35: =CF35*$E35 -> 0 | CI35: 0 | CJ35: =CI35*$K35 -> 0 | CK35: =CI35*$E35 -> 0 | CL35: 0 | CM35: =CL35*$K35 -> 0 | CN35: =CL35*$E35 -> 0 | CO35: 0 | CP35: =CO35*$K35 -> 0 | CQ35: =CO35*$E35 -> 0 | CR35: 0 | CS35: =CR35*$K35 -> 0 | CT35: =CR35*$E35 -> 0 | CU35: 0 | CV35: =CU35*$K35 -> 0 | CW35: =CU35*$E35 -> 0 | CX35: 0 | CY35: =CX35*$K35 -> 0 | CZ35: =CX35*$E35 -> 0 | DA35: 0 | DB35: =DA35*$K35 -> 0 | DC35: =DA35*$E35 -> 0 | DD35: 0 | DE35: =DD35*$K35 -> 0 | DF35: =DD35*$E35 -> 0 | DG35: 0 | DH35: =DG35*$K35 -> 0 | DI35: =DG35*$E35 -> 0 | DJ35: 0 | DK35: =DJ35*$K35 -> 0 | DL35: =DJ35*$E35 -> 0 | DM35: 0 | DN35: =DM35*$K35 -> 0 | DO35: =DM35*$E35 -> 0 | DP35: 0 | DQ35: =DP35*$K35 -> 0 | DR35: =DP35*$E35 -> 0 | DS35: 0 | DT35: =DS35*$K35 -> 0 | DU35: =DS35*$E35 -> 0 | DV35: 0 | DW35: =DV35*$K35 -> 0 | DX35: =DV35*$E35 -> 0 | DY35: 0 | DZ35: =DY35*$K35 -> 0 | EA35: =DY35*$E35 -> 0 | EB35: 0 | EC35: =EB35*$K35 -> 0 | ED35: =EB35*$E35 -> 0 | EF35: =SUM(L35,O35,R35,U35,X35,AA35)+SUM(AD35,AG35,AJ35,AM35,AP35,AS35,AV35,AY35)+SUM(BB35,BE35,BH35,BK35,BN35,BQ35,BT35,BW35,BZ35)+SUM(CC35,CF35,CI35,CL35,CO35,CR35,CU35+CX35+DA35)+SUM(DD35,DG35,DJ35,DM35,DP35,DS35,DV35)+SUM(DY35,EB35) -> 0
F36: =SUM(F10:F35) -> 0.0025 | G36: =SUM(G10:G35) -> 0 | H36: =SUM(H10:H35) -> 0 | I36: =SUM(I10:I35) -> 0 | J36: =SUM(J10:J35) -> 0
A38: TOTAL WAGES | C38: =SUM(C$10:C$35) -> 0.0024 | D38: =SUM(D$10:D$35) -> 0 | E38: =SUM(E$10:E$35) -> 0.0024 | N38: =SUM(N$10:N$35) -> 0 | Q38: =SUM(Q$10:Q$35) -> 0 | T38: =SUM(T$10:T$35) -> 0 | W38: =SUM(W$10:W$35) -> 0 | Z38: =SUM(Z$10:Z$35) -> 0 | AC38: =SUM(AC$10:AC$35) -> 0 | AF38: =SUM(AF$10:AF$35) -> 0 | AI38: =SUM(AI$10:AI$35) -> 0 | AL38: =SUM(AL$10:AL$35) -> 0 | AO38: =SUM(AO$10:AO$35) -> 0 | AR38: =SUM(AR$10:AR$35) -> 0 | AU38: =SUM(AU$10:AU$35) -> 0 | AX38: =SUM(AX$10:AX$35) -> 0 | BA38: =SUM(BA$10:BA$35) -> 0 | BD38: =SUM(BD$10:BD$35) -> 0 | BG38: =SUM(BG$10:BG$35) -> 0 | BJ38: =SUM(BJ$10:BJ$35) -> 0 | BM38: =SUM(BM$10:BM$35) -> 0 | BP38: =SUM(BP$10:BP$35) -> 0 | BS38: =SUM(BS$10:BS$35) -> 0 | BV38: =SUM(BV$10:BV$35) -> 0 | BY38: =SUM(BY$10:BY$35) -> 0 | CB38: =SUM(CB$10:CB$35) -> 0 | CE38: =SUM(CE$10:CE$35) -> 0 | CH38: =SUM(CH$10:CH$35) -> 0 | CK38: =SUM(CK$10:CK$35) -> 0 | CN38: =SUM(CN$10:CN$35) -> 0 | CQ38: =SUM(CQ$10:CQ$35) -> 0 | CT38: =SUM(CT$10:CT$35) -> 0 | CW38: =SUM(CW$10:CW$35) -> 0 | CZ38: =SUM(CZ$10:CZ$35) -> 0 | DC38: =SUM(DC$10:DC$35) -> 0 | DF38: =SUM(DF$10:DF$35) -> 0 | DI38: =SUM(DI$10:DI$35) -> 0 | DL38: =SUM(DL$10:DL$35) -> 0 | DO38: =SUM(DO$10:DO$35) -> 0 | DR38: =SUM(DR$10:DR$35) -> 0 | DU38: =SUM(DU$10:DU$35) -> 0 | DX38: =SUM(DX$10:DX$35) -> 0 | EA38: =SUM(EA$10:EA$35) -> 0 | ED38: =SUM(ED$10:ED$35) -> 0 | EF38: =SUM(N38:ED38)-E38 -> -0.0024
A39: PERCENTAGE OF WAGES | E39: =SUM(L39:ED39) -> 0 | N39: =N38/$E$38 -> 0 | Q39: =Q38/$E$38 -> 0 | T39: =T38/$E$38 -> 0 | W39: =W38/$E$38 -> 0 | Z39: =Z38/$E$38 -> 0 | AC39: =AC38/$E$38 -> 0 | AF39: =AF38/$E$38 -> 0 | AI39: =AI38/$E$38 -> 0 | AL39: =AL38/$E$38 -> 0 | AO39: =AO38/$E$38 -> 0 | AR39: =AR38/$E$38 -> 0 | AU39: =AU38/$E$38 -> 0 | AX39: =AX38/$E$38 -> 0 | BA39: =BA38/$E$38 -> 0 | BD39: =BD38/$E$38 -> 0 | BG39: =BG38/$E$38 -> 0 | BJ39: =BJ38/$E$38 -> 0 | BM39: =BM38/$E$38 -> 0 | BP39: =BP38/$E$38 -> 0 | BS39: =BS38/$E$38 -> 0 | BV39: =BV38/$E$38 -> 0 | BY39: =BY38/$E$38 -> 0 | CB39: =CB38/$E$38 -> 0 | CE39: =CE38/$E$38 -> 0 | CH39: =CH38/$E$38 -> 0 | CK39: =CK38/$E$38 -> 0 | CN39: =CN38/$E$38 -> 0 | CQ39: =CQ38/$E$38 -> 0 | CT39: =CT38/$E$38 -> 0 | CW39: =CW38/$E$38 -> 0 | CZ39: =CZ38/$E$38 -> 0 | DC39: =DC38/$E$38 -> 0 | DF39: =DF38/$E$38 -> 0 | DI39: =DI38/$E$38 -> 0 | DL39: =DL38/$E$38 -> 0 | DO39: =DO38/$E$38 -> 0 | DR39: =DR38/$E$38 -> 0 | DU39: =DU38/$E$38 -> 0 | DX39: =DX38/$E$38 -> 0 | EA39: =EA38/$E$38 -> 0 | ED39: =ED38/$E$38 -> 0 | EF39: =SUM(N39:ED39)-E39 -> 0
A41: TOTAL HOURS | K41: =SUM(K10:K35) -> 0.0025 | M41: =SUM(M10:M35) -> 0 | P41: =SUM(P10:P35) -> 0 | S41: =SUM(S10:S35) -> 0 | V41: =SUM(V10:V35) -> 0 | Y41: =SUM(Y10:Y35) -> 0 | AB41: =SUM(AB10:AB35) -> 0 | AE41: =SUM(AE10:AE35) -> 0 | AH41: =SUM(AH10:AH35) -> 0 | AK41: =SUM(AK10:AK35) -> 0 | AN41: =SUM(AN10:AN35) -> 0 | AQ41: =SUM(AQ10:AQ35) -> 0 | AT41: =SUM(AT10:AT35) -> 0 | AW41: =SUM(AW10:AW35) -> 0 | AZ41: =SUM(AZ10:AZ35) -> 0 | BC41: =SUM(BC10:BC35) -> 0 | BF41: =SUM(BF10:BF35) -> 0 | BI41: =SUM(BI10:BI35) -> 0 | BL41: =SUM(BL10:BL35) -> 0 | BO41: =SUM(BO10:BO35) -> 0 | BR41: =SUM(BR10:BR35) -> 0 | BU41: =SUM(BU10:BU35) -> 0 | BX41: =SUM(BX10:BX35) -> 0 | CA41: =SUM(CA10:CA35) -> 0 | CD41: =SUM(CD10:CD35) -> 0 | CG41: =SUM(CG10:CG35) -> 0 | CJ41: =SUM(CJ10:CJ35) -> 0 | CM41: =SUM(CM10:CM35) -> 0 | CP41: =SUM(CP10:CP35) -> 0 | CS41: =SUM(CS10:CS35) -> 0 | CV41: =SUM(CV10:CV35) -> 0 | CY41: =SUM(CY10:CY35) -> 0 | DB41: =SUM(DB10:DB35) -> 0 | DE41: =SUM(DE10:DE35) -> 0 | DH41: =SUM(DH10:DH35) -> 0 | DK41: =SUM(DK10:DK35) -> 0 | DN41: =SUM(DN10:DN35) -> 0 | DQ41: =SUM(DQ10:DQ35) -> 0 | DT41: =SUM(DT10:DT35) -> 0 | DW41: =SUM(DW10:DW35) -> 0 | DZ41: =SUM(DZ10:DZ35) -> 0 | EC41: =SUM(EC10:EC35) -> 0 | EF41: =SUM(M41:ED41)-K41 -> -0.0025
A42: PERCENTAGE OF HOURS | K42: =SUM(L42:ED42) -> 0 | M42: =M41/$K$41 -> 0 | P42: =P41/$K$41 -> 0 | S42: =S41/$K$41 -> 0 | V42: =V41/$K$41 -> 0 | Y42: =Y41/$K$41 -> 0 | AB42: =AB41/$K$41 -> 0 | AE42: =AE41/$K$41 -> 0 | AH42: =AH41/$K$41 -> 0 | AK42: =AK41/$K$41 -> 0 | AN42: =AN41/$K$41 -> 0 | AQ42: =AQ41/$K$41 -> 0 | AT42: =AT41/$K$41 -> 0 | AW42: =AW41/$K$41 -> 0 | AZ42: =AZ41/$K$41 -> 0 | BC42: =BC41/$K$41 -> 0 | BF42: =BF41/$K$41 -> 0 | BI42: =BI41/$K$41 -> 0 | BL42: =BL41/$K$41 -> 0 | BO42: =BO41/$K$41 -> 0 | BR42: =BR41/$K$41 -> 0 | BU42: =BU41/$K$41 -> 0 | BX42: =BX41/$K$41 -> 0 | CA42: =CA41/$K$41 -> 0 | CD42: =CD41/$K$41 -> 0 | CG42: =CG41/$K$41 -> 0 | CJ42: =CJ41/$K$41 -> 0 | CM42: =CM41/$K$41 -> 0 | CP42: =CP41/$K$41 -> 0 | CS42: =CS41/$K$41 -> 0 | CV42: =CV41/$K$41 -> 0 | CY42: =CY41/$K$41 -> 0 | DB42: =DB41/$K$41 -> 0 | DE42: =DE41/$K$41 -> 0 | DH42: =DH41/$K$41 -> 0 | DK42: =DK41/$K$41 -> 0 | DN42: =DN41/$K$41 -> 0 | DQ42: =DQ41/$K$41 -> 0 | DT42: =DT41/$K$41 -> 0 | DW42: =DW41/$K$41 -> 0 | DZ42: =DZ41/$K$41 -> 0 | EC42: =EC41/$K$41 -> 0 | EF42: =SUM(M42:EC42)-K42 -> 0
B46: Guide to Coverting CIRTS Units into Hours, to Verify if Personnel % Allocation Makes Sense:
B47: 1) Using your CIRTS Units Report, Calculate the actual average daily number of CIRTS billed units provided by your agency for particular service by dividing the number of annual
B48: CIRTS units by the number of service days your organization is open (Usually M-F, excluding Major Holidays)
B49: 5,000 Annual CNML Units/250 days of Operation = 20 CNML Meals Daily
B50: 2) Divide the number of daily CIRTS billed units by the number of average work hours daily spent by employees delivering that service
B51: 20 CNML/ 2 hours daily on CNML (1 employee) = 10 Meals an Hour
B52: 3) Multiply the average units per hour (employee productivity) times the number of hours you say they work on that service annually. This number is what you are estimating
B53: the total number of units of service those employees will deliver as a percentage of their salary.
C54: 10 CNML an Hour x 450 CNML Personnel Hours (from service total) = 4500 CNML estimated units

Sheet Unit Cost Worksheet
A1: Area Agency on Aging Palm Beach/Treaure Coast Inc.
A2: UNIT COST METHODOLOGY
A3: UNIT COST WORKSHEET
A4: BUDGET YEAR:
A5: PROVIDER NAME:
A7: Include all costs for a service regardless of funding source (Including non-DOEA funding)
A8: Include Total units form all funding sources (inlcuding non-DOEA funding)
A9: =+'Personnel Allocations '!A8 | E9: (Service Reference) | G9: (1) | H9: (2) | I9: (3) | J9: (4) | K9: (5) | L9: (6) | M9: (7) | N9: (8) | O9: (9) | P9: (10) | Q9: (11) | R9: (12) | S9: (13) | T9: (14) | U9: (15) | V9: (16) | W9: (17) | X9: (18) | Y9: (19) | Z9: (20) | AA9: (21) | AB9: (22) | AC9: (23) | AD9: (24) | AE9: (25) | AF9: (26) | AG9: (27) | AH9: (28) | AI9: (29) | AJ9: (30) | AK9: (31) | AL9: (32) | AM9: (33) | AN9: (34) | AO9: (35) | AP9: (36) | AQ9: (37) | AS9: (62) | AT9: (63)
A10: LINE ITEM EXPENSES | B10: Prior Year Historical Costs | C10: Proposed Increase/ Decrease | D10: Proposed Budget Totals | E10: ='Personnel Allocations '!L8 -> Management & General Cost Pool | F10: ='Personnel Allocations '!O8 -> Facilities & Maintenance Cost Pool | G10: ='Service Items'!B1 -> Adult Day Care | H10: ='Service Items'!B2 -> Assurance | I10: ='Service Items'!B3 -> Caregiver Training/Support (Group) | J10: ='Service Items'!B4 -> Caregiver Training/Support (Individual) | K10: ='Service Items'!B5 -> Case Aide | L10: ='Service Items'!B6 -> Case Management | M10: ='Service Items'!B7 -> Chore | N10: ='Service Items'!B8 -> Companionship | O10: ='Service Items'!B9 -> Counseling (Gereontological) Group | P10: ='Service Items'!B10 -> Counseling (Gereontological) Individual | Q10: ='Service Items'!B11 -> Counseling (Mental Health/Screening) Group | R10: ='Service Items'!B12 -> Counseling (Mental Health/Screening) Individual | S10: ='Service Items'!B13 -> Emergency Alert Response | T10: ='Service Items'!B14 -> Home Delivered Meals | U10: ='Service Items'!B15 -> Homemaker | V10: ='Service Items'!B16 -> Personal Care | W10: ='Service Items'!B17 -> Respite (Facility Based) | X10: ='Service Items'!B18 -> Respite (In-Home) | Y10: ='Service Items'!B19 -> Transportation | Z10: ='Service Items'!B20 -> Pest Control Maintenance | AA10: ='Service Items'!B21 -> 0 | AB10: ='Service Items'!B22 -> 0 | AC10: ='Service Items'!B23 -> 0 | AD10: ='Service Items'!B24 -> 0 | AE10: ='Service Items'!B25 -> 0 | AF10: ='Service Items'!B26 -> 0 | AG10: ='Service Items'!B27 -> 0 | AH10: ='Service Items'!B28 -> 0 | AI10: ='Service Items'!B29 -> 0 | AJ10: ='Service Items'!B30 -> 0 | AK10: ='Service Items'!B31 -> 0 | AL10: ='Service Items'!B32 -> 0 | AM10: ='Service Items'!B33 -> 0 | AN10: ='Service Items'!B34 -> 0 | AO10: ='Service Items'!B35 -> 0 | AP10: ='Service Items'!B36 -> 0 | AQ10: ='Service Items'!B37 -> 0 | AR10: Total Program Costs | AS10: ='Service Items'!B38 -> Non-DOEA Services & Activities | AT10: ='Service Items'!B39 -> Fundraising & Unallowable Activities | AV10: Check for Total Costs
A11: Wages | B11: 0 | C11: 0 | D11: ='Personnel Allocations '!E38 -> 0.0024 | E11: ='Personnel Allocations '!N38 -> 0 | F11: ='Personnel Allocations '!Q38 -> 0 | G11: ='Personnel Allocations '!T38 -> 0 | H11: ='Personnel Allocations '!W38 -> 0 | I11: ='Personnel Allocations '!Z38 -> 0 | J11: ='Personnel Allocations '!AC38 -> 0 | K11: ='Personnel Allocations '!AF38 -> 0 | L11: ='Personnel Allocations '!AI38 -> 0 | M11: ='Personnel Allocations '!AL38 -> 0 | N11: ='Personnel Allocations '!AO38 -> 0 | O11: ='Personnel Allocations '!AR38 -> 0 | P11: ='Personnel Allocations '!AU38 -> 0 | Q11: ='Personnel Allocations '!AX38 -> 0 | R11: ='Personnel Allocations '!BA38 -> 0 | S11: ='Personnel Allocations '!BD38 -> 0 | T11: ='Personnel Allocations '!BG38 -> 0 | U11: ='Personnel Allocations '!BJ38 -> 0 | V11: ='Personnel Allocations '!BM38 -> 0 | W11: ='Personnel Allocations '!BP38 -> 0 | X11: ='Personnel Allocations '!BS38 -> 0 | Y11: ='Personnel Allocations '!BV38 -> 0 | Z11: ='Personnel Allocations '!BY38 -> 0 | AA11: ='Personnel Allocations '!CB38 -> 0 | AB11: ='Personnel Allocations '!CE38 -> 0 | AC11: ='Personnel Allocations '!CH38 -> 0 | AD11: ='Personnel Allocations '!CK38 -> 0 | AE11: ='Personnel Allocations '!CN38 -> 0 | AF11: ='Personnel Allocations '!CQ38 -> 0 | AG11: ='Personnel Allocations '!CT38 -> 0 | AH11: ='Personnel Allocations '!CW38 -> 0 | AI11: ='Personnel Allocations '!CZ38 -> 0 | AJ11: ='Personnel Allocations '!DC38 -> 0 | AK11: ='Personnel Allocations '!DF38 -> 0 | AL11: ='Personnel Allocations '!DI38 -> 0 | AM11: ='Personnel Allocations '!DL38 -> 0 | AN11: ='Personnel Allocations '!DO38 -> 0 | AO11: ='Personnel Allocations '!DR38 -> 0 | AP11: ='Personnel Allocations '!DU38 -> 0 | AQ11: ='Personnel Allocations '!DX38 -> 0 | AR11: =SUM($G11:$AQ11) -> 0 | AS11: ='Personnel Allocations '!EA38 -> 0 | AT11: ='Personnel Allocations '!ED38 -> 0 | AV11: =D11-(SUM(E11:AQ11)+AS11+AT11) -> 0.0024
